![]() | Name | Last modified | Size | Description |
---|---|---|---|---|
![]() | Parent Directory | - | ||
![]() | buildsrc-out.txt | 28-Sep-2023 00:35 | 849 | |
![]() | buildsrc-summary.dcf | 28-Sep-2023 00:35 | 418 | |
![]() | checksrc-out.txt | 28-Sep-2023 00:35 | 3.3K | |
![]() | checksrc-summary.dcf | 28-Sep-2023 00:35 | 416 | |
![]() | install-out.txt | 28-Sep-2023 00:35 | 955 | |
![]() | install-summary.dcf | 28-Sep-2023 00:35 | 260 | |