Name | Last modified | Size | Description | |
---|---|---|---|---|
Parent Directory | - | |||
install-out.txt | 13-Jul-2024 06:38 | 957 | ||
install-summary.dcf | 13-Jul-2024 06:38 | 255 | ||
buildsrc-out.txt | 13-Jul-2024 06:38 | 864 | ||
buildsrc-summary.dcf | 13-Jul-2024 06:38 | 412 | ||
checksrc-out.txt | 13-Jul-2024 06:38 | 3.4K | ||
checksrc-summary.dcf | 13-Jul-2024 06:38 | 407 | ||