Name | Last modified | Size | Description | |
---|---|---|---|---|
Parent Directory | - | |||
buildbin-out.txt | 26-Jun-2024 06:42 | 1.1K | ||
buildbin-summary.dcf | 26-Jun-2024 06:42 | 521 | ||
checksrc-summary.dcf | 26-Jun-2024 06:42 | 438 | ||
checksrc-out.txt | 26-Jun-2024 06:42 | 3.5K | ||
buildsrc-summary.dcf | 26-Jun-2024 06:42 | 422 | ||
buildsrc-out.txt | 26-Jun-2024 06:42 | 874 | ||
install-summary.dcf | 26-Jun-2024 06:42 | 265 | ||
install-out.txt | 26-Jun-2024 06:42 | 1.0K | ||