Back to Multiple platform build/check report for BioC 3.12
ABCDEFGHIJKLMNO[P]QRSTUVWXYZ

BUILD BIN report for PREDA on tokay1

This page was generated on 2021-04-17 12:09:28 -0400 (Sat, 17 Apr 2021).

To the developers/maintainers of the PREDA package:
Please make sure to use the following settings in order to reproduce any error or warning you see on this page.
Package 1380/1974HostnameOS / ArchINSTALLBUILDCHECKBUILD BIN
PREDA 1.36.0  (landing page)
Francesco Ferrari
Snapshot Date: 2021-04-16 14:50:12 -0400 (Fri, 16 Apr 2021)
URL: https://git.bioconductor.org/packages/PREDA
Branch: RELEASE_3_12
Last Commit: bf51167
Last Changed Date: 2020-10-27 10:42:27 -0400 (Tue, 27 Oct 2020)
malbec1Linux (Ubuntu 18.04.5 LTS) / x86_64  OK    OK    WARNINGS  UNNEEDED, same version exists in internal repository
tokay1Windows Server 2012 R2 Standard / x64  OK    OK    WARNINGS    OK  UNNEEDED, same version exists in internal repository
merida1macOS 10.14.6 Mojave / x86_64  OK    OK    WARNINGS    OK  UNNEEDED, same version exists in internal repository

Summary

Package: PREDA
Version: 1.36.0
Command: rm -rf PREDA.buildbin-libdir && mkdir PREDA.buildbin-libdir && C:\Users\biocbuild\bbs-3.12-bioc\R\bin\R.exe --arch x64 CMD INSTALL --no-multiarch --build --library=PREDA.buildbin-libdir PREDA_1.36.0.tar.gz
StartedAt: 2021-04-17 08:08:50 -0400 (Sat, 17 Apr 2021)
EndedAt: 2021-04-17 08:09:40 -0400 (Sat, 17 Apr 2021)
EllapsedTime: 49.7 seconds
RetCode: 0
Status:   OK   
PackageFile: PREDA_1.36.0.zip
PackageFileSize: 1.923 MiB

Command output

##############################################################################
##############################################################################
###
### Running command:
###
###   rm -rf PREDA.buildbin-libdir && mkdir PREDA.buildbin-libdir && C:\Users\biocbuild\bbs-3.12-bioc\R\bin\R.exe --arch x64 CMD INSTALL --no-multiarch --build --library=PREDA.buildbin-libdir PREDA_1.36.0.tar.gz
###
##############################################################################
##############################################################################


* installing *source* package 'PREDA' ...
** using staged installation
** R
** inst
** byte-compile and prepare package for lazy loading
** help
*** installing help indices
  converting help for package 'PREDA'
    finding HTML links ... done
    DataForPREDA-class                      html  
    DataForPREDA2GenomicAnnotationsForPREDA
                                            html  
    DataForPREDA2StatisticsForPREDA         html  
    DataForPREDA2dataframe                  html  
    DataForPREDAMedianCenter                html  
    GenomicAnnotations-class                html  
    GenomicAnnotations2GenomicAnnotationsForPREDA
                                            html  
    GenomicAnnotations2dataframe            html  
    GenomicAnnotations2reference_positions
                                            html  
    GenomicAnnotationsExtract               html  
    GenomicAnnotationsFilter_neg            html  
    GenomicAnnotationsFilter_pos            html  
    GenomicAnnotationsForPREDA-class        html  
    GenomicAnnotationsForPREDA2GenomicAnnotations
                                            html  
    GenomicAnnotationsForPREDA2PREDAResults
                                            html  
    GenomicAnnotationsForPREDA2dataframe    html  
    GenomicAnnotationsForPREDAFromfile      html  
    GenomicAnnotationsFromLibrary           html  
    GenomicAnnotationsFromdataframe         html  
    GenomicAnnotationsFromfile              html  
    GenomicAnnotationsSortAndCleanNA        html  
    GenomicRegions-class                    html  
    GenomicRegions2dataframe                html  
    GenomicRegionsAnnotate                  html  
    GenomicRegionsChrNumber                 html  
    GenomicRegionsComparison                html  
    GenomicRegionsCreateRegionsIds          html  
    GenomicRegionsFilter_neg                html  
    GenomicRegionsFilter_pos                html  
    GenomicRegionsFindOverlap               html  
    GenomicRegionsFromdataframe             html  
    GenomicRegionsFromfile                  html  
    GenomicRegionsNumber                    html  
    GenomicRegionsSpan                      html  
    GenomicRegionsTotalSpan                 html  
    MergeStatisticAnnotations2DataForPREDA
                                            html  
    PREDADataAndResults-class               html  
    PREDADataAndResults2dataframe           html  
    PREDAResults-class                      html  
    PREDAResults2GenomicRegions             html  
    PREDAResults2GenomicRegionsSingle       html  
    PREDAResults2PREDADataAndResults        html  
    PREDAResults2dataframe                  html  
    PREDAResultsGetObservedFlags            html  
    PREDA_main                              html  
    SODEGIR_GEstatistics                    html  
    finding level-2 HTML links ... done

    SODEGIRpreprocessingGE                  html  
    StatisticsForPREDA-class                html  
    StatisticsForPREDA2dataframe            html  
    StatisticsForPREDAFilterColumns_neg     html  
    StatisticsForPREDAFilterColumns_pos     html  
    StatisticsForPREDAFromdataframe         html  
    StatisticsForPREDAFromfile              html  
    analysesNames                           html  
    computeDatasetSignature                 html  
    eset2GenomicAnnotations                 html  
    genomePlot                              html  
    getStatisticByName                      html  
    preprocessingGE                         html  
    statisticsForPREDAfromEset              html  
** building package indices
** installing vignettes
** testing if installed package can be loaded from temporary location
** testing if installed package can be loaded from final location
** testing if installed package keeps a record of temporary installation path
* MD5 sums
packaged installation of 'PREDA' as PREDA_1.36.0.zip
* DONE (PREDA)