Index of /checkResults/release/bioc-LATEST/PREDA/raw-results/nebbiolo2

[ICO]NameLast modifiedSizeDescription

[DIR]Parent Directory  -  
[TXT]buildsrc-out.txt31-Jan-2023 01:05 1.0K 
[   ]buildsrc-summary.dcf31-Jan-2023 01:05 412  
[TXT]checksrc-out.txt31-Jan-2023 01:05 25K 
[   ]checksrc-summary.dcf31-Jan-2023 01:05 407  
[TXT]install-out.txt31-Jan-2023 01:05 941  
[   ]install-summary.dcf31-Jan-2023 01:05 255