Index of /checkResults/release/bioc-LATEST/PREDA/raw-results/lconway

[ICO]NameLast modifiedSizeDescription

[DIR]Parent Directory  -  
[TXT]buildbin-out.txt31-Jan-2023 01:08 1.1K 
[   ]buildbin-summary.dcf31-Jan-2023 01:08 518  
[TXT]buildsrc-out.txt31-Jan-2023 01:08 1.0K 
[   ]buildsrc-summary.dcf31-Jan-2023 01:08 422  
[TXT]checksrc-out.txt31-Jan-2023 01:08 25K 
[   ]checksrc-summary.dcf31-Jan-2023 01:08 442  
[TXT]install-out.txt31-Jan-2023 01:08 1.0K 
[   ]install-summary.dcf31-Jan-2023 01:08 265