Name | Last modified | Size | Description | |
---|---|---|---|---|
Parent Directory | - | |||
buildsrc-out.txt | 15-Jun-2024 03:37 | 794 | ||
buildsrc-summary.dcf | 15-Jun-2024 03:37 | 408 | ||
checksrc-out.txt | 15-Jun-2024 03:37 | 16K | ||
checksrc-summary.dcf | 15-Jun-2024 03:37 | 402 | ||
install-out.txt | 15-Jun-2024 03:37 | 1.0K | ||
install-summary.dcf | 15-Jun-2024 03:37 | 252 | ||