Name | Last modified | Size | Description | |
---|---|---|---|---|
Parent Directory | - | |||
install-summary.dcf | 12-Jun-2024 03:44 | 263 | ||
buildsrc-summary.dcf | 12-Jun-2024 03:44 | 416 | ||
checksrc-summary.dcf | 12-Jun-2024 03:44 | 438 | ||
buildbin-summary.dcf | 12-Jun-2024 03:44 | 513 | ||
buildsrc-out.txt | 12-Jun-2024 03:44 | 771 | ||
install-out.txt | 12-Jun-2024 03:44 | 4.6K | ||
buildbin-out.txt | 12-Jun-2024 03:44 | 6.4K | ||
checksrc-out.txt | 12-Jun-2024 03:44 | 12K | ||