Name | Last modified | Size | Description | |
---|---|---|---|---|
Parent Directory | - | |||
install-out.txt | 17-Jul-2024 06:39 | 1.2K | ||
install-summary.dcf | 17-Jul-2024 06:39 | 259 | ||
buildsrc-out.txt | 17-Jul-2024 06:39 | 869 | ||
buildsrc-summary.dcf | 17-Jul-2024 06:39 | 418 | ||
checksrc-out.txt | 17-Jul-2024 06:39 | 5.0K | ||
checksrc-summary.dcf | 17-Jul-2024 06:39 | 418 | ||