Name | Last modified | Size | Description | |
---|---|---|---|---|
Parent Directory | - | |||
buildbin-summary.dcf | 17-Jul-2024 06:42 | 530 | ||
buildbin-out.txt | 17-Jul-2024 06:42 | 1.4K | ||
checksrc-summary.dcf | 17-Jul-2024 06:42 | 444 | ||
checksrc-out.txt | 17-Jul-2024 06:42 | 4.6K | ||
buildsrc-summary.dcf | 17-Jul-2024 06:42 | 428 | ||
buildsrc-out.txt | 17-Jul-2024 06:42 | 879 | ||
install-summary.dcf | 17-Jul-2024 06:42 | 269 | ||
install-out.txt | 17-Jul-2024 06:42 | 1.2K | ||