Back to Multiple platform build/check report for BioC 3.15
ABCDEFGHIJKLMNO[P]QRSTUVWXYZ

This page was generated on 2022-06-24 12:06:30 -0400 (Fri, 24 Jun 2022).

HostnameOSArch (*)R versionInstalled pkgs
nebbiolo1Linux (Ubuntu 20.04.4 LTS)x86_644.2.0 (2022-04-22) -- "Vigorous Calisthenics" 4380
palomino3Windows Server 2022 Datacenterx644.2.0 (2022-04-22 ucrt) -- "Vigorous Calisthenics" 4156
merida1macOS 10.14.6 Mojavex86_644.2.0 (2022-04-22) -- "Vigorous Calisthenics" 4221
Click on any hostname to see more info about the system (e.g. compilers)      (*) as reported by 'uname -p', except on Windows and Mac OS X

BUILD BIN results for PERFect on palomino3


To the developers/maintainers of the PERFect package:
- Please allow up to 24 hours (and sometimes 48 hours) for your latest push to git@git.bioconductor.org:packages/PERFect.git to
reflect on this report. See How and When does the builder pull? When will my changes propagate? for more information.
- Make sure to use the following settings in order to reproduce any error or warning you see on this page.

raw results

Package 1436/2140HostnameOS / ArchINSTALLBUILDCHECKBUILD BIN
PERFect 1.10.0  (landing page)
Quy Cao
Snapshot Date: 2022-06-23 13:55:15 -0400 (Thu, 23 Jun 2022)
git_url: https://git.bioconductor.org/packages/PERFect
git_branch: RELEASE_3_15
git_last_commit: e0a5ccf
git_last_commit_date: 2022-04-26 12:00:05 -0400 (Tue, 26 Apr 2022)
nebbiolo1Linux (Ubuntu 20.04.4 LTS) / x86_64  OK    OK    OK  UNNEEDED, same version is already published
palomino3Windows Server 2022 Datacenter / x64  OK    OK    OK    OK  UNNEEDED, same version is already published
merida1macOS 10.14.6 Mojave / x86_64  OK    OK    OK    NA  

Summary

Package: PERFect
Version: 1.10.0
Command: rm -rf PERFect.buildbin-libdir && mkdir PERFect.buildbin-libdir && F:\biocbuild\bbs-3.15-bioc\R\bin\R.exe CMD INSTALL --build --library=PERFect.buildbin-libdir PERFect_1.10.0.tar.gz
StartedAt: 2022-06-24 07:05:58 -0400 (Fri, 24 Jun 2022)
EndedAt: 2022-06-24 07:06:22 -0400 (Fri, 24 Jun 2022)
EllapsedTime: 23.8 seconds
RetCode: 0
Status:   OK  
PackageFile: PERFect_1.10.0.zip
PackageFileSize: 670.7 KiB

Command output

##############################################################################
##############################################################################
###
### Running command:
###
###   rm -rf PERFect.buildbin-libdir && mkdir PERFect.buildbin-libdir && F:\biocbuild\bbs-3.15-bioc\R\bin\R.exe CMD INSTALL --build --library=PERFect.buildbin-libdir PERFect_1.10.0.tar.gz
###
##############################################################################
##############################################################################


* installing *source* package 'PERFect' ...
** using staged installation
** R
** data
** inst
** byte-compile and prepare package for lazy loading
** help
*** installing help indices
** building package indices
** installing vignettes
** testing if installed package can be loaded from temporary location
** testing if installed package can be loaded from final location
** testing if installed package keeps a record of temporary installation path
* MD5 sums
packaged installation of 'PERFect' as PERFect_1.10.0.zip
* DONE (PERFect)