Index of /checkResults/release/bioc-LATEST/PCAtools/raw-results/nebbiolo2

[ICO]NameLast modifiedSizeDescription

[DIR]Parent Directory  -  
[TXT]buildsrc-out.txt30-Mar-2024 00:36 840  
[   ]buildsrc-summary.dcf30-Mar-2024 00:36 420  
[TXT]checksrc-out.txt30-Mar-2024 00:36 3.8K 
[   ]checksrc-summary.dcf30-Mar-2024 00:36 418  
[TXT]install-out.txt30-Mar-2024 00:36 285K 
[   ]install-summary.dcf30-Mar-2024 00:36 261