Name | Last modified | Size | Description | |
---|---|---|---|---|
Parent Directory | - | |||
buildsrc-out.txt | 10-May-2024 00:41 | 805 | ||
buildsrc-summary.dcf | 10-May-2024 00:41 | 420 | ||
checksrc-out.txt | 10-May-2024 00:41 | 6.4K | ||
checksrc-summary.dcf | 10-May-2024 00:41 | 445 | ||
install-out.txt | 10-May-2024 00:41 | 4.7K | ||
install-summary.dcf | 10-May-2024 00:41 | 264 | ||