Name | Last modified | Size | Description | |
---|---|---|---|---|
Parent Directory | - | |||
install-summary.dcf | 12-Jun-2024 03:44 | 263 | ||
install-out.txt | 12-Jun-2024 03:44 | 4.7K | ||
checksrc-summary.dcf | 12-Jun-2024 03:44 | 438 | ||
checksrc-out.txt | 12-Jun-2024 03:44 | 6.3K | ||
buildsrc-summary.dcf | 12-Jun-2024 03:44 | 419 | ||
buildsrc-out.txt | 12-Jun-2024 03:44 | 804 | ||
buildbin-summary.dcf | 12-Jun-2024 03:44 | 511 | ||
buildbin-out.txt | 12-Jun-2024 03:44 | 4.9K | ||