Index of /checkResults/release/bioc-LATEST/OutSplice/raw-results/merida1
Name
Last modified
Size
Description
Parent Directory
-
install-summary.dcf
05-Mar-2024 01:39
274
buildsrc-summary.dcf
05-Mar-2024 01:39
345
install-out.txt
05-Mar-2024 01:39
703
buildsrc-out.txt
05-Mar-2024 01:39
902