Name | Last modified | Size | Description | |
---|---|---|---|---|
Parent Directory | - | |||
buildbin-out.txt | 27-Jul-2024 06:39 | 1.1K | ||
buildbin-summary.dcf | 27-Jul-2024 06:39 | 558 | ||
buildsrc-out.txt | 27-Jul-2024 06:39 | 874 | ||
buildsrc-summary.dcf | 27-Jul-2024 06:39 | 481 | ||
checksrc-out.txt | 27-Jul-2024 06:39 | 3.7K | ||
checksrc-summary.dcf | 27-Jul-2024 06:39 | 475 | ||
install-out.txt | 27-Jul-2024 06:39 | 1.0K | ||
install-summary.dcf | 27-Jul-2024 06:39 | 282 | ||