Name | Last modified | Size | Description | |
---|---|---|---|---|
Parent Directory | - | |||
install-summary.dcf | 29-Jun-2024 06:42 | 282 | ||
install-out.txt | 29-Jun-2024 06:42 | 1.0K | ||
checksrc-summary.dcf | 29-Jun-2024 06:42 | 475 | ||
checksrc-out.txt | 29-Jun-2024 06:42 | 3.7K | ||
buildsrc-summary.dcf | 29-Jun-2024 06:42 | 481 | ||
buildsrc-out.txt | 29-Jun-2024 06:42 | 874 | ||
buildbin-summary.dcf | 29-Jun-2024 06:42 | 557 | ||
buildbin-out.txt | 29-Jun-2024 06:42 | 1.1K | ||