Index of /checkResults/release/bioc-LATEST/Organism.dplyr/raw-results/nebbiolo2

[ICO]NameLast modifiedSizeDescription

[DIR]Parent Directory  -  
[TXT]buildsrc-out.txt01-Mar-2024 01:36 834  
[   ]buildsrc-summary.dcf01-Mar-2024 01:36 439  
[TXT]checksrc-out.txt01-Mar-2024 01:36 3.9K 
[   ]checksrc-summary.dcf01-Mar-2024 01:36 442  
[TXT]install-out.txt01-Mar-2024 01:36 1.0K 
[   ]install-summary.dcf01-Mar-2024 01:36 273