Index of /checkResults/release/bioc-LATEST/OncoSimulR/raw-results/kjohnson3
Name
Last modified
Size
Description
Parent Directory
-
install-summary.dcf
12-Jun-2024 03:44
275
install-out.txt
12-Jun-2024 03:44
9.4K
buildsrc-out.txt
12-Jun-2024 03:44
1.6K
buildsrc-summary.dcf
12-Jun-2024 03:44
349