Index of /checkResults/release/bioc-LATEST/OncoSimulR/raw-results/kjohnson1
Name
Last modified
Size
Description
Parent Directory
-
install-out.txt
13-Jul-2024 06:42
9.4K
install-summary.dcf
13-Jul-2024 06:42
275
buildsrc-out.txt
13-Jul-2024 06:42
1.6K
buildsrc-summary.dcf
13-Jul-2024 06:42
349