Name | Last modified | Size | Description | |
---|---|---|---|---|
Parent Directory | - | |||
buildsrc-out.txt | 19-May-2024 00:36 | 877 | ||
buildsrc-summary.dcf | 19-May-2024 00:36 | 423 | ||
checksrc-out.txt | 19-May-2024 00:36 | 3.2K | ||
checksrc-summary.dcf | 19-May-2024 00:36 | 422 | ||
install-out.txt | 19-May-2024 00:36 | 966 | ||
install-summary.dcf | 19-May-2024 00:36 | 263 | ||