Name | Last modified | Size | Description | |
---|---|---|---|---|
Parent Directory | - | |||
install-summary.dcf | 26-Jun-2024 06:42 | 267 | ||
install-out.txt | 26-Jun-2024 06:42 | 3.0K | ||
checksrc-summary.dcf | 26-Jun-2024 06:42 | 440 | ||
checksrc-out.txt | 26-Jun-2024 06:42 | 4.3K | ||
buildsrc-summary.dcf | 26-Jun-2024 06:42 | 426 | ||
buildsrc-out.txt | 26-Jun-2024 06:42 | 905 | ||
buildbin-summary.dcf | 26-Jun-2024 06:42 | 524 | ||
buildbin-out.txt | 26-Jun-2024 06:42 | 5.1K | ||