Back to Multiple platform build/check report for BioC 3.12
ABCDEFGHIJKLMN[O]PQRSTUVWXYZ

INSTALL report for OSAT on tokay1

This page was generated on 2021-02-22 12:39:42 -0500 (Mon, 22 Feb 2021).

To the developers/maintainers of the OSAT package:
Please make sure to use the following settings in order to reproduce any error or warning you see on this page.
Package 1281/1974HostnameOS / ArchINSTALLBUILDCHECKBUILD BIN
OSAT 1.38.0
Li Yan
Snapshot Date: 2021-02-21 14:52:07 -0500 (Sun, 21 Feb 2021)
URL: https://git.bioconductor.org/packages/OSAT
Branch: RELEASE_3_12
Last Commit: dead1e7
Last Changed Date: 2020-10-27 10:46:15 -0500 (Tue, 27 Oct 2020)
malbec1Linux (Ubuntu 18.04.5 LTS) / x86_64  OK    OK    OK  UNNEEDED, same version exists in internal repository
nebbiolo1Linux (Ubuntu 20.04.2 LTS) / x86_64  OK    OK    OK  
tokay1Windows Server 2012 R2 Standard / x64  OK    OK    OK    OK  UNNEEDED, same version exists in internal repository
merida1macOS 10.14.6 Mojave / x86_64  OK    OK    OK    OK  UNNEEDED, same version exists in internal repository

Summary

Package: OSAT
Version: 1.38.0
Command: C:\cygwin\bin\curl.exe -O https://malbec1.bioconductor.org/BBS/3.12/bioc/src/contrib/OSAT_1.38.0.tar.gz && rm -rf OSAT.buildbin-libdir && mkdir OSAT.buildbin-libdir && C:\Users\biocbuild\bbs-3.12-bioc\R\bin\R.exe CMD INSTALL --merge-multiarch --build --library=OSAT.buildbin-libdir OSAT_1.38.0.tar.gz && C:\Users\biocbuild\bbs-3.12-bioc\R\bin\R.exe CMD INSTALL OSAT_1.38.0.zip && rm OSAT_1.38.0.tar.gz OSAT_1.38.0.zip
StartedAt: 2021-02-21 17:28:38 -0500 (Sun, 21 Feb 2021)
EndedAt: 2021-02-21 17:29:13 -0500 (Sun, 21 Feb 2021)
EllapsedTime: 35.2 seconds
RetCode: 0
Status:   OK   

Command output

##############################################################################
##############################################################################
###
### Running command:
###
###   C:\cygwin\bin\curl.exe -O https://malbec1.bioconductor.org/BBS/3.12/bioc/src/contrib/OSAT_1.38.0.tar.gz && rm -rf OSAT.buildbin-libdir && mkdir OSAT.buildbin-libdir && C:\Users\biocbuild\bbs-3.12-bioc\R\bin\R.exe CMD INSTALL --merge-multiarch --build --library=OSAT.buildbin-libdir OSAT_1.38.0.tar.gz && C:\Users\biocbuild\bbs-3.12-bioc\R\bin\R.exe CMD INSTALL OSAT_1.38.0.zip && rm OSAT_1.38.0.tar.gz OSAT_1.38.0.zip
###
##############################################################################
##############################################################################


  % Total    % Received % Xferd  Average Speed   Time    Time     Time  Current
                                 Dload  Upload   Total   Spent    Left  Speed

  0     0    0     0    0     0      0      0 --:--:-- --:--:-- --:--:--     0
100  627k  100  627k    0     0  16.4M      0 --:--:-- --:--:-- --:--:-- 18.5M

install for i386

* installing *source* package 'OSAT' ...
** using staged installation
** R
** data
** inst
** byte-compile and prepare package for lazy loading
** help
*** installing help indices
  converting help for package 'OSAT'
    finding HTML links ... done
    BeadChip-class                          html  
    BeadPlate-class                         html  
    MSAroboticPlate-class                   html  
    QC                                      html  
    create.optimized.setup                  html  
    example.setup                           html  
    gArray-class                            html  
    gAssembly-class                         html  
    gContainer-class                        html  
    gExperimentSetup-class                  html  
    gPlate-class                            html  
    gSample-class                           html  
    gSlide-class                            html  
    get.experiment.setup                    html  
    multi.barplot                           html  
    multi.chisq.test                        html  
    optimal.block                           html  
    optimal.shuffle                         html  
    plot-methods                            html  
    predefined                              html  
** building package indices
** installing vignettes
** testing if installed package can be loaded from temporary location
** testing if installed package can be loaded from final location
** testing if installed package keeps a record of temporary installation path

install for x64

* installing *source* package 'OSAT' ...
** testing if installed package can be loaded
* MD5 sums
packaged installation of 'OSAT' as OSAT_1.38.0.zip
* DONE (OSAT)
* installing to library 'C:/Users/biocbuild/bbs-3.12-bioc/R/library'
package 'OSAT' successfully unpacked and MD5 sums checked