Index of /checkResults/release/bioc-LATEST/OSAT/raw-results/merida1

[ICO]NameLast modifiedSizeDescription

[DIR]Parent Directory  -  
[   ]buildbin-summary.dcf10-Jul-2024 06:42 511  
[TXT]buildbin-out.txt10-Jul-2024 06:42 1.1K 
[TXT]checksrc-out.txt10-Jul-2024 06:42 5.0K 
[   ]checksrc-summary.dcf10-Jul-2024 06:42 431  
[TXT]buildsrc-out.txt10-Jul-2024 06:42 867  
[   ]buildsrc-summary.dcf10-Jul-2024 06:42 417  
[TXT]install-out.txt10-Jul-2024 06:42 1.0K 
[   ]install-summary.dcf10-Jul-2024 06:42 262