Index of /checkResults/release/bioc-LATEST/OSAT/raw-results/lconway

[ICO]NameLast modifiedSizeDescription

[DIR]Parent Directory  -  
[TXT]buildbin-out.txt03-Mar-2024 01:37 1.1K 
[   ]buildbin-summary.dcf03-Mar-2024 01:37 511  
[TXT]buildsrc-out.txt03-Mar-2024 01:37 867  
[   ]buildsrc-summary.dcf03-Mar-2024 01:37 418  
[TXT]checksrc-out.txt03-Mar-2024 01:37 5.0K 
[   ]checksrc-summary.dcf03-Mar-2024 01:37 431  
[TXT]install-out.txt03-Mar-2024 01:37 1.0K 
[   ]install-summary.dcf03-Mar-2024 01:37 263