Back to Multiple platform build/check report for BioC 3.12
ABCDEFGHIJKLMN[O]PQRSTUVWXYZ

BUILD report for OSAT on nebbiolo1

This page was generated on 2021-02-22 12:35:05 -0500 (Mon, 22 Feb 2021).

To the developers/maintainers of the OSAT package:
Please make sure to use the following settings in order to reproduce any error or warning you see on this page.
Package 1281/1974HostnameOS / ArchINSTALLBUILDCHECKBUILD BIN
OSAT 1.38.0
Li Yan
Snapshot Date: 2021-02-21 14:52:07 -0500 (Sun, 21 Feb 2021)
URL: https://git.bioconductor.org/packages/OSAT
Branch: RELEASE_3_12
Last Commit: dead1e7
Last Changed Date: 2020-10-27 10:46:15 -0500 (Tue, 27 Oct 2020)
malbec1Linux (Ubuntu 18.04.5 LTS) / x86_64  OK    OK    OK  UNNEEDED, same version exists in internal repository
nebbiolo1Linux (Ubuntu 20.04.2 LTS) / x86_64  OK    OK    OK  
tokay1Windows Server 2012 R2 Standard / x64  OK    OK    OK    OK  UNNEEDED, same version exists in internal repository
merida1macOS 10.14.6 Mojave / x86_64  OK    OK    OK    OK  UNNEEDED, same version exists in internal repository

Summary

Package: OSAT
Version: 1.38.0
Command: /home/biocbuild/bbs-3.12-bioc/R/bin/R CMD build --keep-empty-dirs --no-resave-data OSAT
StartedAt: 2021-02-21 19:10:59 -0500 (Sun, 21 Feb 2021)
EndedAt: 2021-02-21 19:11:54 -0500 (Sun, 21 Feb 2021)
EllapsedTime: 54.4 seconds
RetCode: 0
Status:   OK  
PackageFile: OSAT_1.38.0.tar.gz
PackageFileSize: 1001 KiB

Command output

##############################################################################
##############################################################################
###
### Running command:
###
###   /home/biocbuild/bbs-3.12-bioc/R/bin/R CMD build --keep-empty-dirs --no-resave-data OSAT
###
##############################################################################
##############################################################################


* checking for file ‘OSAT/DESCRIPTION’ ... OK
* preparing ‘OSAT’:
* checking DESCRIPTION meta-information ... OK
* installing the package to build vignettes
* creating vignettes ... OK
* checking for LF line-endings in source and make files and shell scripts
* checking for empty or unneeded directories
* looking to see if a ‘data/datalist’ file should be added
* building ‘OSAT_1.38.0.tar.gz’