Back to Multiple platform build/check report for BioC 3.12
ABCDEFGHIJKLMN[O]PQRSTUVWXYZ

Multiple platform build/check report for BioC 3.12

Results for OSAT

This page was generated on 2021-01-25 11:47:45 -0500 (Mon, 25 Jan 2021).

Package 1281/1974HostnameOS / ArchINSTALLBUILDCHECKBUILD BIN
OSAT 1.38.0
Li Yan
Snapshot Date: 2021-01-24 14:40:16 -0500 (Sun, 24 Jan 2021)
URL: https://git.bioconductor.org/packages/OSAT
Branch: RELEASE_3_12
Last Commit: dead1e7
Last Changed Date: 2020-10-27 10:46:15 -0500 (Tue, 27 Oct 2020)
malbec1 Linux (Ubuntu 18.04.5 LTS) / x86_64  OK  OK  OK UNNEEDED, same version exists in internal repository
nebbiolo1 Linux (Ubuntu 20.04.1 LTS) / x86_64  OK  OK  OK 
tokay1 Windows Server 2012 R2 Standard / x64  OK  OK  OK  OK UNNEEDED, same version exists in internal repository
merida1 macOS 10.14.6 Mojave / x86_64  OK  OK  OK  OK UNNEEDED, same version exists in internal repository