Name | Last modified | Size | Description | |
---|---|---|---|---|
Parent Directory | - | |||
install-summary.dcf | 05-Mar-2024 01:39 | 274 | ||
buildsrc-summary.dcf | 05-Mar-2024 01:39 | 434 | ||
checksrc-summary.dcf | 05-Mar-2024 01:39 | 452 | ||
buildbin-summary.dcf | 05-Mar-2024 01:39 | 543 | ||
buildsrc-out.txt | 05-Mar-2024 01:39 | 894 | ||
install-out.txt | 05-Mar-2024 01:39 | 2.8K | ||
checksrc-out.txt | 05-Mar-2024 01:39 | 3.6K | ||
buildbin-out.txt | 05-Mar-2024 01:39 | 4.9K | ||