Index of /checkResults/release/bioc-LATEST/OLINgui/raw-results/palomino3

[ICO]NameLast modifiedSizeDescription

[DIR]Parent Directory  -  
[TXT]buildbin-out.txt24-Sep-2023 00:36 1.1K 
[   ]buildbin-summary.dcf24-Sep-2023 00:36 514  
[TXT]buildsrc-out.txt24-Sep-2023 00:36 839  
[   ]buildsrc-summary.dcf24-Sep-2023 00:36 452  
[TXT]checksrc-out.txt24-Sep-2023 00:36 4.0K 
[   ]checksrc-summary.dcf24-Sep-2023 00:36 446  
[TXT]install-out.txt24-Sep-2023 00:36 962  
[   ]install-summary.dcf24-Sep-2023 00:36 267