![]() | Name | Last modified | Size | Description |
---|---|---|---|---|
![]() | Parent Directory | - | ||
![]() | buildsrc-out.txt | 24-Sep-2023 00:35 | 806 | |
![]() | buildsrc-summary.dcf | 24-Sep-2023 00:35 | 416 | |
![]() | checksrc-out.txt | 24-Sep-2023 00:35 | 4.0K | |
![]() | checksrc-summary.dcf | 24-Sep-2023 00:35 | 413 | |
![]() | install-out.txt | 24-Sep-2023 00:35 | 952 | |
![]() | install-summary.dcf | 24-Sep-2023 00:35 | 258 | |