Back to Multiple platform build/check report for BioC 3.16
ABCDEFGHIJKLMN[O]PQRSTUVWXYZ

This page was generated on 2023-02-01 11:07:25 -0500 (Wed, 01 Feb 2023).

HostnameOSArch (*)R versionInstalled pkgs
nebbiolo2Linux (Ubuntu 20.04.5 LTS)x86_644.2.2 (2022-10-31) -- "Innocent and Trusting" 4511
palomino4Windows Server 2022 Datacenterx644.2.2 (2022-10-31 ucrt) -- "Innocent and Trusting" 4289
lconwaymacOS 12.5.1 Montereyx86_644.2.2 (2022-10-31) -- "Innocent and Trusting" 4318
Click on any hostname to see more info about the system (e.g. compilers)      (*) as reported by 'uname -p', except on Windows and Mac OS X

CHECK results for OLINgui on palomino4


To the developers/maintainers of the OLINgui package:
- Please allow up to 24 hours (and sometimes 48 hours) for your latest push to git@git.bioconductor.org:packages/OLINgui.git to
reflect on this report. See How and When does the builder pull? When will my changes propagate? for more information.
- Make sure to use the following settings in order to reproduce any error or warning you see on this page.

raw results

Package 1381/2183HostnameOS / ArchINSTALLBUILDCHECKBUILD BIN
OLINgui 1.72.0  (landing page)
Matthias Futschik
Snapshot Date: 2023-01-31 14:00:04 -0500 (Tue, 31 Jan 2023)
git_url: https://git.bioconductor.org/packages/OLINgui
git_branch: RELEASE_3_16
git_last_commit: 18425f3
git_last_commit_date: 2022-11-01 10:38:06 -0500 (Tue, 01 Nov 2022)
nebbiolo2Linux (Ubuntu 20.04.5 LTS) / x86_64  OK    OK    OK  UNNEEDED, same version is already published
palomino4Windows Server 2022 Datacenter / x64  OK    OK    OK    OK  UNNEEDED, same version is already published
lconwaymacOS 12.5.1 Monterey / x86_64  OK    OK    OK    OK  UNNEEDED, same version is already published

Summary

Package: OLINgui
Version: 1.72.0
Command: F:\biocbuild\bbs-3.16-bioc\R\bin\R.exe CMD check --no-multiarch --install=check:OLINgui.install-out.txt --library=F:\biocbuild\bbs-3.16-bioc\R\library --no-vignettes --timings OLINgui_1.72.0.tar.gz
StartedAt: 2023-02-01 04:07:32 -0500 (Wed, 01 Feb 2023)
EndedAt: 2023-02-01 04:08:20 -0500 (Wed, 01 Feb 2023)
EllapsedTime: 48.0 seconds
RetCode: 0
Status:   OK  
CheckDir: OLINgui.Rcheck
Warnings: 0

Command output

##############################################################################
##############################################################################
###
### Running command:
###
###   F:\biocbuild\bbs-3.16-bioc\R\bin\R.exe CMD check --no-multiarch --install=check:OLINgui.install-out.txt --library=F:\biocbuild\bbs-3.16-bioc\R\library --no-vignettes --timings OLINgui_1.72.0.tar.gz
###
##############################################################################
##############################################################################


* using log directory 'F:/biocbuild/bbs-3.16-bioc/meat/OLINgui.Rcheck'
* using R version 4.2.2 (2022-10-31 ucrt)
* using platform: x86_64-w64-mingw32 (64-bit)
* using session charset: UTF-8
* using option '--no-vignettes'
* checking for file 'OLINgui/DESCRIPTION' ... OK
* this is package 'OLINgui' version '1.72.0'
* checking package namespace information ... OK
* checking package dependencies ... OK
* checking if this is a source package ... OK
* checking if there is a namespace ... OK
* checking for hidden files and directories ... OK
* checking for portable file names ... OK
* checking whether package 'OLINgui' can be installed ... OK
* checking installed package size ... OK
* checking package directory ... OK
* checking 'build' directory ... OK
* checking DESCRIPTION meta-information ... NOTE
Malformed Description field: should contain one or more complete sentences.
Package listed in more than one of Depends, Imports, Suggests, Enhances:
  'OLIN'
A package should be listed in only one of these fields.
* checking top-level files ... OK
* checking for left-over files ... OK
* checking index information ... OK
* checking package subdirectories ... OK
* checking R files for non-ASCII characters ... OK
* checking R files for syntax errors ... OK
* checking whether the package can be loaded ... OK
* checking whether the package can be loaded with stated dependencies ... OK
* checking whether the package can be unloaded cleanly ... OK
* checking whether the namespace can be loaded with stated dependencies ... OK
* checking whether the namespace can be unloaded cleanly ... OK
* checking dependencies in R code ... OK
* checking S3 generic/method consistency ... OK
* checking replacement functions ... OK
* checking foreign function calls ... OK
* checking R code for possible problems ... NOTE
OLINgui : objectBrowser2 : viewEnv: warning in ls(env = env, all =
  TRUE): partial argument match of 'env' to 'envir'
OLINgui : objectBrowser2 : viewEnv: warning in ls(env = env, all =
  TRUE): partial argument match of 'all' to 'all.names'
OLINgui : objectBrowser2 : finish: no visible binding for global
  variable 'h'
OLINgui : browseFile2: no visible binding for global variable 'nenvtmp'
OLINgui : anovapi: no visible binding for global variable 'x'
OLINgui : anovapl: no visible binding for global variable 'x'
OLINgui : anovaintensity: no visible binding for global variable 'x'
OLINgui : anovaspa: no visible binding for global variable 'x'
Undefined global functions or variables:
  h nenvtmp x
* checking Rd files ... OK
* checking Rd metadata ... OK
* checking Rd cross-references ... OK
* checking for missing documentation entries ... OK
* checking for code/documentation mismatches ... OK
* checking Rd \usage sections ... OK
* checking Rd contents ... OK
* checking for unstated dependencies in examples ... OK
* checking sizes of PDF files under 'inst/doc' ... OK
* checking files in 'vignettes' ... OK
* checking examples ... NONE
* checking for unstated dependencies in vignettes ... OK
* checking package vignettes in 'inst/doc' ... OK
* checking running R code from vignettes ... SKIPPED
* checking re-building of vignette outputs ... SKIPPED
* checking PDF version of manual ... OK
* DONE

Status: 2 NOTEs
See
  'F:/biocbuild/bbs-3.16-bioc/meat/OLINgui.Rcheck/00check.log'
for details.



Installation output

OLINgui.Rcheck/00install.out

##############################################################################
##############################################################################
###
### Running command:
###
###   F:\biocbuild\bbs-3.16-bioc\R\bin\R.exe CMD INSTALL OLINgui
###
##############################################################################
##############################################################################


* installing to library 'F:/biocbuild/bbs-3.16-bioc/R/library'
* installing *source* package 'OLINgui' ...
** using staged installation
** R
** inst
** byte-compile and prepare package for lazy loading
** help
*** installing help indices
** building package indices
** installing vignettes
** testing if installed package can be loaded from temporary location
** testing if installed package can be loaded from final location
** testing if installed package keeps a record of temporary installation path
* DONE (OLINgui)

Tests output


Example timings