Back to Multiple platform build/check report for BioC 3.16
ABCDEFGHIJKLMN[O]PQRSTUVWXYZ

This page was generated on 2023-01-31 11:06:33 -0500 (Tue, 31 Jan 2023).

HostnameOSArch (*)R versionInstalled pkgs
nebbiolo2Linux (Ubuntu 20.04.5 LTS)x86_644.2.2 (2022-10-31) -- "Innocent and Trusting" 4511
palomino4Windows Server 2022 Datacenterx644.2.2 (2022-10-31 ucrt) -- "Innocent and Trusting" 4289
lconwaymacOS 12.5.1 Montereyx86_644.2.2 (2022-10-31) -- "Innocent and Trusting" 4318
Click on any hostname to see more info about the system (e.g. compilers)      (*) as reported by 'uname -p', except on Windows and Mac OS X

BUILD results for OLINgui on nebbiolo2


To the developers/maintainers of the OLINgui package:
- Please allow up to 24 hours (and sometimes 48 hours) for your latest push to git@git.bioconductor.org:packages/OLINgui.git to
reflect on this report. See How and When does the builder pull? When will my changes propagate? for more information.
- Make sure to use the following settings in order to reproduce any error or warning you see on this page.

raw results

Package 1381/2183HostnameOS / ArchINSTALLBUILDCHECKBUILD BIN
OLINgui 1.72.0  (landing page)
Matthias Futschik
Snapshot Date: 2023-01-30 14:00:05 -0500 (Mon, 30 Jan 2023)
git_url: https://git.bioconductor.org/packages/OLINgui
git_branch: RELEASE_3_16
git_last_commit: 18425f3
git_last_commit_date: 2022-11-01 10:38:06 -0500 (Tue, 01 Nov 2022)
nebbiolo2Linux (Ubuntu 20.04.5 LTS) / x86_64  OK    OK    OK  UNNEEDED, same version is already published
palomino4Windows Server 2022 Datacenter / x64  OK    OK    OK    OK  UNNEEDED, same version is already published
lconwaymacOS 12.5.1 Monterey / x86_64  OK    OK    OK    OK  UNNEEDED, same version is already published

Summary

Package: OLINgui
Version: 1.72.0
Command: /home/biocbuild/bbs-3.16-bioc/R/bin/R CMD build --keep-empty-dirs --no-resave-data OLINgui
StartedAt: 2023-01-30 17:14:01 -0500 (Mon, 30 Jan 2023)
EndedAt: 2023-01-30 17:14:10 -0500 (Mon, 30 Jan 2023)
EllapsedTime: 9.3 seconds
RetCode: 0
Status:   OK  
PackageFile: OLINgui_1.72.0.tar.gz
PackageFileSize: 229.2 KiB

Command output

##############################################################################
##############################################################################
###
### Running command:
###
###   /home/biocbuild/bbs-3.16-bioc/R/bin/R CMD build --keep-empty-dirs --no-resave-data OLINgui
###
##############################################################################
##############################################################################


* checking for file ‘OLINgui/DESCRIPTION’ ... OK
* preparing ‘OLINgui’:
* checking DESCRIPTION meta-information ... OK
* installing the package to build vignettes
* creating vignettes ... OK
* checking for LF line-endings in source and make files and shell scripts
* checking for empty or unneeded directories
* building ‘OLINgui_1.72.0.tar.gz’