Back to Multiple platform build/check report for BioC 3.16 |
|
This page was generated on 2023-02-01 11:06:00 -0500 (Wed, 01 Feb 2023).
Hostname | OS | Arch (*) | R version | Installed pkgs |
---|---|---|---|---|
nebbiolo2 | Linux (Ubuntu 20.04.5 LTS) | x86_64 | 4.2.2 (2022-10-31) -- "Innocent and Trusting" | 4511 |
palomino4 | Windows Server 2022 Datacenter | x64 | 4.2.2 (2022-10-31 ucrt) -- "Innocent and Trusting" | 4289 |
lconway | macOS 12.5.1 Monterey | x86_64 | 4.2.2 (2022-10-31) -- "Innocent and Trusting" | 4318 |
Click on any hostname to see more info about the system (e.g. compilers) (*) as reported by 'uname -p', except on Windows and Mac OS X |
To the developers/maintainers of the OLIN package: - Please allow up to 24 hours (and sometimes 48 hours) for your latest push to git@git.bioconductor.org:packages/OLIN.git to reflect on this report. See How and When does the builder pull? When will my changes propagate? for more information. - Make sure to use the following settings in order to reproduce any error or warning you see on this page. |
Package 1380/2183 | Hostname | OS / Arch | INSTALL | BUILD | CHECK | BUILD BIN | ||||||||
OLIN 1.76.0 (landing page) Matthias Futschik
| nebbiolo2 | Linux (Ubuntu 20.04.5 LTS) / x86_64 | OK | OK | OK | ![]() | ||||||||
palomino4 | Windows Server 2022 Datacenter / x64 | OK | OK | OK | OK | ![]() | ||||||||
lconway | macOS 12.5.1 Monterey / x86_64 | OK | OK | OK | OK | ![]() | ||||||||
Package: OLIN |
Version: 1.76.0 |
Command: /home/biocbuild/bbs-3.16-bioc/R/bin/R CMD check --install=check:OLIN.install-out.txt --library=/home/biocbuild/bbs-3.16-bioc/R/library --timings OLIN_1.76.0.tar.gz |
StartedAt: 2023-01-31 22:21:05 -0500 (Tue, 31 Jan 2023) |
EndedAt: 2023-01-31 22:22:39 -0500 (Tue, 31 Jan 2023) |
EllapsedTime: 93.4 seconds |
RetCode: 0 |
Status: OK |
CheckDir: OLIN.Rcheck |
Warnings: 0 |
############################################################################## ############################################################################## ### ### Running command: ### ### /home/biocbuild/bbs-3.16-bioc/R/bin/R CMD check --install=check:OLIN.install-out.txt --library=/home/biocbuild/bbs-3.16-bioc/R/library --timings OLIN_1.76.0.tar.gz ### ############################################################################## ############################################################################## * using log directory ‘/home/biocbuild/bbs-3.16-bioc/meat/OLIN.Rcheck’ * using R version 4.2.2 (2022-10-31) * using platform: x86_64-pc-linux-gnu (64-bit) * using session charset: UTF-8 * checking for file ‘OLIN/DESCRIPTION’ ... OK * this is package ‘OLIN’ version ‘1.76.0’ * checking package namespace information ... OK * checking package dependencies ... OK * checking if this is a source package ... OK * checking if there is a namespace ... OK * checking for hidden files and directories ... OK * checking for portable file names ... OK * checking for sufficient/correct file permissions ... OK * checking whether package ‘OLIN’ can be installed ... OK * checking installed package size ... OK * checking package directory ... OK * checking ‘build’ directory ... OK * checking DESCRIPTION meta-information ... NOTE Malformed Description field: should contain one or more complete sentences. Packages listed in more than one of Depends, Imports, Suggests, Enhances: ‘marray’ ‘methods’ A package should be listed in only one of these fields. * checking top-level files ... OK * checking for left-over files ... OK * checking index information ... OK * checking package subdirectories ... OK * checking R files for non-ASCII characters ... OK * checking R files for syntax errors ... OK * checking whether the package can be loaded ... OK * checking whether the package can be loaded with stated dependencies ... OK * checking whether the package can be unloaded cleanly ... OK * checking whether the namespace can be loaded with stated dependencies ... OK * checking whether the namespace can be unloaded cleanly ... OK * checking dependencies in R code ... NOTE 'library' or 'require' call to ‘convert’ in package code. Please use :: or requireNamespace() instead. See section 'Suggested packages' in the 'Writing R Extensions' manual. Package in Depends field not imported from: ‘locfit’ These packages need to be imported from (in the NAMESPACE file) for when this namespace is loaded but not attached. * checking S3 generic/method consistency ... OK * checking replacement functions ... OK * checking foreign function calls ... OK * checking R code for possible problems ... NOTE ino: no visible global function definition for ‘locfit’ ino: no visible global function definition for ‘predict’ lin: no visible global function definition for ‘locfit’ lin: no visible global function definition for ‘predict’ oin: no visible global function definition for ‘gcvplot’ oin: no visible global function definition for ‘locfit’ oin: no visible global function definition for ‘predict’ olin: no visible global function definition for ‘gcv’ olin: no visible global function definition for ‘locfit’ olin: no visible global function definition for ‘predict’ Undefined global functions or variables: gcv gcvplot locfit predict Consider adding importFrom("stats", "predict") to your NAMESPACE file. * checking Rd files ... OK * checking Rd metadata ... OK * checking Rd cross-references ... OK * checking for missing documentation entries ... OK * checking for code/documentation mismatches ... OK * checking Rd \usage sections ... OK * checking Rd contents ... OK * checking for unstated dependencies in examples ... OK * checking contents of ‘data’ directory ... OK * checking data for non-ASCII characters ... OK * checking data for ASCII and uncompressed saves ... OK * checking files in ‘vignettes’ ... OK * checking examples ... OK Examples with CPU (user + system) or elapsed time > 5s user system elapsed olin 14.723 0.132 14.855 * checking for unstated dependencies in vignettes ... OK * checking package vignettes in ‘inst/doc’ ... OK * checking running R code from vignettes ... ‘OLIN.Rnw’... OK OK * checking re-building of vignette outputs ... OK * checking PDF version of manual ... OK * DONE Status: 3 NOTEs See ‘/home/biocbuild/bbs-3.16-bioc/meat/OLIN.Rcheck/00check.log’ for details.
OLIN.Rcheck/00install.out
############################################################################## ############################################################################## ### ### Running command: ### ### /home/biocbuild/bbs-3.16-bioc/R/bin/R CMD INSTALL OLIN ### ############################################################################## ############################################################################## * installing to library ‘/home/biocbuild/bbs-3.16-bioc/R/library’ * installing *source* package ‘OLIN’ ... ** using staged installation ** R ** data ** inst ** byte-compile and prepare package for lazy loading ** help *** installing help indices ** building package indices ** installing vignettes ** testing if installed package can be loaded from temporary location ** testing if installed package can be loaded from final location ** testing if installed package keeps a record of temporary installation path * DONE (OLIN)
OLIN.Rcheck/OLIN-Ex.timings
name | user | system | elapsed | |
anovaint | 0.157 | 0.004 | 0.162 | |
anovapin | 0.060 | 0.015 | 0.077 | |
anovaplate | 0.072 | 0.001 | 0.073 | |
anovaspatial | 0.158 | 0.008 | 0.166 | |
backgroundCorrect2 | 0.465 | 0.020 | 0.484 | |
bas | 0.219 | 0.000 | 0.218 | |
colorbar.mxy | 0.048 | 0.000 | 0.048 | |
fdr.int | 0.000 | 0.000 | 0.001 | |
fdr.int2 | 0 | 0 | 0 | |
fdr.spatial | 0.000 | 0.000 | 0.001 | |
fdr.spatial2 | 0.001 | 0.000 | 0.000 | |
fgbg.visu | 0.100 | 0.012 | 0.112 | |
ino | 0.302 | 0.007 | 0.310 | |
lin | 0.592 | 0.009 | 0.601 | |
m2v | 0.062 | 0.000 | 0.063 | |
ma.matrix | 0.195 | 0.000 | 0.195 | |
ma.vector | 0.335 | 0.000 | 0.335 | |
mxy.abs.plot | 0.252 | 0.004 | 0.256 | |
mxy.plot | 0.061 | 0.004 | 0.066 | |
mxy2.plot | 0.058 | 0.000 | 0.059 | |
oin | 0.855 | 0.003 | 0.859 | |
olin | 14.723 | 0.132 | 14.855 | |
p.int | 0 | 0 | 0 | |
p.int2 | 0.000 | 0.000 | 0.001 | |
p.spatial | 0 | 0 | 0 | |
p.spatial2 | 0.001 | 0.000 | 0.000 | |
sig.mask | 0 | 0 | 0 | |
sigint.plot | 0.001 | 0.000 | 0.000 | |
sigint.plot2 | 0 | 0 | 0 | |
sigxy.plot | 0.001 | 0.000 | 0.000 | |
sigxy.plot2 | 0 | 0 | 0 | |
v2m | 0.055 | 0.003 | 0.060 | |