Back to Multiple platform build/check report for BioC 3.12
ABCDEFGHIJKLMN[O]PQRSTUVWXYZ

Multiple platform build/check report for BioC 3.12

Results for package OGSA

This page was generated on 2021-02-22 12:27:54 -0500 (Mon, 22 Feb 2021).

Package 1245/1974HostnameOS / ArchINSTALLBUILDCHECKBUILD BIN
OGSA 1.20.0
Michael F. Ochs
Snapshot Date: 2021-02-21 14:52:07 -0500 (Sun, 21 Feb 2021)
URL: https://git.bioconductor.org/packages/OGSA
Branch: RELEASE_3_12
Last Commit: f2093dc
Last Changed Date: 2020-10-27 11:06:44 -0500 (Tue, 27 Oct 2020)
malbec1Linux (Ubuntu 18.04.5 LTS) / x86_64  OK    OK    ERROR  
nebbiolo1Linux (Ubuntu 20.04.2 LTS) / x86_64  OK    OK    ERROR  
tokay1Windows Server 2012 R2 Standard / x64  OK    OK    ERROR    OK  
merida1macOS 10.14.6 Mojave / x86_64  OK    OK    ERROR    OK