Back to Multiple platform build/check report for BioC 3.16:   simplified   long
ABCDEFGHIJKLM[N]OPQRSTUVWXYZ

This page was generated on 2023-03-27 11:06:11 -0400 (Mon, 27 Mar 2023).

HostnameOSArch (*)R versionInstalled pkgs
nebbiolo2Linux (Ubuntu 20.04.5 LTS)x86_644.2.3 (2023-03-15) -- "Shortstop Beagle" 4480
palomino4Windows Server 2022 Datacenterx644.2.3 (2023-03-15 ucrt) -- "Shortstop Beagle" 4276
lconwaymacOS 12.5.1 Montereyx86_644.2.3 (2023-03-15) -- "Shortstop Beagle" 4304
Click on any hostname to see more info about the system (e.g. compilers)      (*) as reported by 'uname -p', except on Windows and Mac OS X

CHECK results for NxtIRFcore on lconway


To the developers/maintainers of the NxtIRFcore package:
- Please allow up to 24 hours (and sometimes 48 hours) for your latest push to git@git.bioconductor.org:packages/NxtIRFcore.git to
reflect on this report. See How and When does the builder pull? When will my changes propagate? for more information.
- Make sure to use the following settings in order to reproduce any error or warning you see on this page.

raw results

Package 1371/2183HostnameOS / ArchINSTALLBUILDCHECKBUILD BIN
NxtIRFcore 1.4.0  (landing page)
Alex Chit Hei Wong
Snapshot Date: 2023-03-24 14:00:04 -0400 (Fri, 24 Mar 2023)
git_url: https://git.bioconductor.org/packages/NxtIRFcore
git_branch: RELEASE_3_16
git_last_commit: c38d908
git_last_commit_date: 2022-11-01 11:26:02 -0400 (Tue, 01 Nov 2022)
nebbiolo2Linux (Ubuntu 20.04.5 LTS) / x86_64  OK    OK    OK  UNNEEDED, same version is already published
palomino4Windows Server 2022 Datacenter / x64  OK    OK    OK    OK  UNNEEDED, same version is already published
lconwaymacOS 12.5.1 Monterey / x86_64  OK    OK    OK    OK  UNNEEDED, same version is already published

Summary

Package: NxtIRFcore
Version: 1.4.0
Command: /Library/Frameworks/R.framework/Resources/bin/R CMD check --install=check:NxtIRFcore.install-out.txt --library=/Library/Frameworks/R.framework/Resources/library --no-vignettes --timings NxtIRFcore_1.4.0.tar.gz
StartedAt: 2023-03-24 21:30:35 -0400 (Fri, 24 Mar 2023)
EndedAt: 2023-03-24 21:36:26 -0400 (Fri, 24 Mar 2023)
EllapsedTime: 350.4 seconds
RetCode: 0
Status:   OK  
CheckDir: NxtIRFcore.Rcheck
Warnings: 0

Command output

##############################################################################
##############################################################################
###
### Running command:
###
###   /Library/Frameworks/R.framework/Resources/bin/R CMD check --install=check:NxtIRFcore.install-out.txt --library=/Library/Frameworks/R.framework/Resources/library --no-vignettes --timings NxtIRFcore_1.4.0.tar.gz
###
##############################################################################
##############################################################################


* using log directory ‘/Users/biocbuild/bbs-3.16-bioc/meat/NxtIRFcore.Rcheck’
* using R version 4.2.3 (2023-03-15)
* using platform: x86_64-apple-darwin17.0 (64-bit)
* using session charset: UTF-8
* using option ‘--no-vignettes’
* checking for file ‘NxtIRFcore/DESCRIPTION’ ... OK
* this is package ‘NxtIRFcore’ version ‘1.4.0’
* package encoding: UTF-8
* checking package namespace information ... OK
* checking package dependencies ... OK
* checking if this is a source package ... OK
* checking if there is a namespace ... OK
* checking for hidden files and directories ... OK
* checking for portable file names ... OK
* checking for sufficient/correct file permissions ... OK
* checking whether package ‘NxtIRFcore’ can be installed ... OK
* checking installed package size ... OK
* checking package directory ... OK
* checking ‘build’ directory ... OK
* checking DESCRIPTION meta-information ... OK
* checking top-level files ... OK
* checking for left-over files ... OK
* checking index information ... OK
* checking package subdirectories ... OK
* checking R files for non-ASCII characters ... OK
* checking R files for syntax errors ... OK
* checking whether the package can be loaded ... OK
* checking whether the package can be loaded with stated dependencies ... OK
* checking whether the package can be unloaded cleanly ... OK
* checking whether the namespace can be loaded with stated dependencies ... OK
* checking whether the namespace can be unloaded cleanly ... OK
* checking dependencies in R code ... OK
* checking S3 generic/method consistency ... OK
* checking replacement functions ... OK
* checking foreign function calls ... OK
* checking R code for possible problems ... OK
* checking Rd files ... OK
* checking Rd metadata ... OK
* checking Rd cross-references ... OK
* checking for missing documentation entries ... OK
* checking for code/documentation mismatches ... OK
* checking Rd \usage sections ... OK
* checking Rd contents ... OK
* checking for unstated dependencies in examples ... OK
* checking line endings in shell scripts ... OK
* checking line endings in C/C++/Fortran sources/headers ... OK
* checking line endings in Makefiles ... OK
* checking compilation flags in Makevars ... OK
* checking for GNU extensions in Makefiles ... OK
* checking for portable use of $(BLAS_LIBS) and $(LAPACK_LIBS) ... OK
* checking use of PKG_*FLAGS in Makefiles ... OK
* checking compiled code ... NOTE
Note: information on .o files is not available
* checking files in ‘vignettes’ ... OK
* checking examples ... OK
Examples with CPU (user + system) or elapsed time > 5s
                 user system elapsed
BuildReference 14.920  0.308  15.256
CollateData    12.098  0.640  12.824
* checking for unstated dependencies in ‘tests’ ... OK
* checking tests ...
  Running ‘testthat.R’
 OK
* checking for unstated dependencies in vignettes ... OK
* checking package vignettes in ‘inst/doc’ ... OK
* checking running R code from vignettes ... SKIPPED
* checking re-building of vignette outputs ... SKIPPED
* checking PDF version of manual ... OK
* DONE

Status: 1 NOTE
See
  ‘/Users/biocbuild/bbs-3.16-bioc/meat/NxtIRFcore.Rcheck/00check.log’
for details.



Installation output

NxtIRFcore.Rcheck/00install.out

##############################################################################
##############################################################################
###
### Running command:
###
###   /Library/Frameworks/R.framework/Resources/bin/R CMD INSTALL NxtIRFcore
###
##############################################################################
##############################################################################


* installing to library ‘/Library/Frameworks/R.framework/Versions/4.2/Resources/library’
* installing *source* package ‘NxtIRFcore’ ...
** using staged installation
Configuring without OpenMP for MacOS
** libs
clang++ -mmacosx-version-min=10.13 -std=gnu++11 -I"/Library/Frameworks/R.framework/Resources/include" -DNDEBUG  -I'/Library/Frameworks/R.framework/Versions/4.2/Resources/library/Rcpp/include' -I'/Library/Frameworks/R.framework/Versions/4.2/Resources/library/zlibbioc/include' -I'/Library/Frameworks/R.framework/Versions/4.2/Resources/library/RcppProgress/include' -I/usr/local/include   -DRNXTIRF -fPIC  -Wall -g -O2  -c BAM2blocks.cpp -o BAM2blocks.o
clang++ -mmacosx-version-min=10.13 -std=gnu++11 -I"/Library/Frameworks/R.framework/Resources/include" -DNDEBUG  -I'/Library/Frameworks/R.framework/Versions/4.2/Resources/library/Rcpp/include' -I'/Library/Frameworks/R.framework/Versions/4.2/Resources/library/zlibbioc/include' -I'/Library/Frameworks/R.framework/Versions/4.2/Resources/library/RcppProgress/include' -I/usr/local/include   -DRNXTIRF -fPIC  -Wall -g -O2  -c FastaReader.cpp -o FastaReader.o
clang++ -mmacosx-version-min=10.13 -std=gnu++11 -I"/Library/Frameworks/R.framework/Resources/include" -DNDEBUG  -I'/Library/Frameworks/R.framework/Versions/4.2/Resources/library/Rcpp/include' -I'/Library/Frameworks/R.framework/Versions/4.2/Resources/library/zlibbioc/include' -I'/Library/Frameworks/R.framework/Versions/4.2/Resources/library/RcppProgress/include' -I/usr/local/include   -DRNXTIRF -fPIC  -Wall -g -O2  -c FragmentBlocks.cpp -o FragmentBlocks.o
clang++ -mmacosx-version-min=10.13 -std=gnu++11 -I"/Library/Frameworks/R.framework/Resources/include" -DNDEBUG  -I'/Library/Frameworks/R.framework/Versions/4.2/Resources/library/Rcpp/include' -I'/Library/Frameworks/R.framework/Versions/4.2/Resources/library/zlibbioc/include' -I'/Library/Frameworks/R.framework/Versions/4.2/Resources/library/RcppProgress/include' -I/usr/local/include   -DRNXTIRF -fPIC  -Wall -g -O2  -c GZTools.cpp -o GZTools.o
clang++ -mmacosx-version-min=10.13 -std=gnu++11 -I"/Library/Frameworks/R.framework/Resources/include" -DNDEBUG  -I'/Library/Frameworks/R.framework/Versions/4.2/Resources/library/Rcpp/include' -I'/Library/Frameworks/R.framework/Versions/4.2/Resources/library/zlibbioc/include' -I'/Library/Frameworks/R.framework/Versions/4.2/Resources/library/RcppProgress/include' -I/usr/local/include   -DRNXTIRF -fPIC  -Wall -g -O2  -c IRFinder.cpp -o IRFinder.o
clang++ -mmacosx-version-min=10.13 -std=gnu++11 -I"/Library/Frameworks/R.framework/Resources/include" -DNDEBUG  -I'/Library/Frameworks/R.framework/Versions/4.2/Resources/library/Rcpp/include' -I'/Library/Frameworks/R.framework/Versions/4.2/Resources/library/zlibbioc/include' -I'/Library/Frameworks/R.framework/Versions/4.2/Resources/library/RcppProgress/include' -I/usr/local/include   -DRNXTIRF -fPIC  -Wall -g -O2  -c RcppExports.cpp -o RcppExports.o
clang++ -mmacosx-version-min=10.13 -std=gnu++11 -I"/Library/Frameworks/R.framework/Resources/include" -DNDEBUG  -I'/Library/Frameworks/R.framework/Versions/4.2/Resources/library/Rcpp/include' -I'/Library/Frameworks/R.framework/Versions/4.2/Resources/library/zlibbioc/include' -I'/Library/Frameworks/R.framework/Versions/4.2/Resources/library/RcppProgress/include' -I/usr/local/include   -DRNXTIRF -fPIC  -Wall -g -O2  -c ReadBlockProcessor.cpp -o ReadBlockProcessor.o
clang++ -mmacosx-version-min=10.13 -std=gnu++11 -I"/Library/Frameworks/R.framework/Resources/include" -DNDEBUG  -I'/Library/Frameworks/R.framework/Versions/4.2/Resources/library/Rcpp/include' -I'/Library/Frameworks/R.framework/Versions/4.2/Resources/library/zlibbioc/include' -I'/Library/Frameworks/R.framework/Versions/4.2/Resources/library/RcppProgress/include' -I/usr/local/include   -DRNXTIRF -fPIC  -Wall -g -O2  -c ReadBlockProcessor_CoverageBlocks.cpp -o ReadBlockProcessor_CoverageBlocks.o
ReadBlockProcessor_CoverageBlocks.cpp:247:16: warning: variable 'len' set but not used [-Wunused-but-set-variable]
                unsigned int len=0;
                             ^
1 warning generated.
clang++ -mmacosx-version-min=10.13 -std=gnu++11 -I"/Library/Frameworks/R.framework/Resources/include" -DNDEBUG  -I'/Library/Frameworks/R.framework/Versions/4.2/Resources/library/Rcpp/include' -I'/Library/Frameworks/R.framework/Versions/4.2/Resources/library/zlibbioc/include' -I'/Library/Frameworks/R.framework/Versions/4.2/Resources/library/RcppProgress/include' -I/usr/local/include   -DRNXTIRF -fPIC  -Wall -g -O2  -c covTools.cpp -o covTools.o
clang++ -mmacosx-version-min=10.13 -std=gnu++11 -dynamiclib -Wl,-headerpad_max_install_names -undefined dynamic_lookup -single_module -multiply_defined suppress -L/Library/Frameworks/R.framework/Resources/lib -L/usr/local/lib -o NxtIRFcore.so BAM2blocks.o FastaReader.o FragmentBlocks.o GZTools.o IRFinder.o RcppExports.o ReadBlockProcessor.o ReadBlockProcessor_CoverageBlocks.o covTools.o -DRNXTIRF -F/Library/Frameworks/R.framework/.. -framework R -Wl,-framework -Wl,CoreFoundation
installing to /Library/Frameworks/R.framework/Versions/4.2/Resources/library/00LOCK-NxtIRFcore/00new/NxtIRFcore/libs
** R
** inst
** byte-compile and prepare package for lazy loading
** help
*** installing help indices
** building package indices
** installing vignettes
** testing if installed package can be loaded from temporary location
** checking absolute paths in shared objects and dynamic libraries
** testing if installed package can be loaded from final location
** testing if installed package keeps a record of temporary installation path
* DONE (NxtIRFcore)

Tests output

NxtIRFcore.Rcheck/tests/testthat.Rout


R version 4.2.3 (2023-03-15) -- "Shortstop Beagle"
Copyright (C) 2023 The R Foundation for Statistical Computing
Platform: x86_64-apple-darwin17.0 (64-bit)

R is free software and comes with ABSOLUTELY NO WARRANTY.
You are welcome to redistribute it under certain conditions.
Type 'license()' or 'licence()' for distribution details.

R is a collaborative project with many contributors.
Type 'contributors()' for more information and
'citation()' on how to cite R or R packages in publications.

Type 'demo()' for some demos, 'help()' for on-line help, or
'help.start()' for an HTML browser interface to help.
Type 'q()' to quit R.

> library(testthat)
> library(NxtIRFcore)
Loading required package: NxtIRFdata
> 
> test_check("NxtIRFcore")
Mar 24 21:35:46 Reference generated without non-polyA reference
Mar 24 21:35:46 Reference generated without Mappability reference
Mar 24 21:35:46 Reference generated without Blacklist exclusion
Mar 24 21:35:46 Converting FASTA to local TwoBitFile...done
Mar 24 21:35:47 Connecting to genome TwoBitFile...done
Mar 24 21:35:47 Making local copy of GTF file...done
Mar 24 21:35:47 Reading source GTF file...done
Mar 24 21:35:47 Processing gtf file...
...genes
...transcripts
...CDS
...exons
done
Mar 24 21:35:49 Processing introns...
...data
...basic annotations
...splice motifs
...other info
...defining flanking exon islands
done
Mar 24 21:35:53 Generating IRFinder reference
...prepping data
...determining measurable introns (directional)
...determining measurable introns (non-directional)
...writing ref-cover.bed
...writing ref-ROI.bed
...writing ref-read-continues.ref
...writing ref-sj.ref
IRFinder reference generation completed
Mar 24 21:35:58 Predicting NMD transcripts from genome sequence
...exonic transcripts
...retained introns

  |                                                                            
  |                                                                      |   0%
  |                                                                            
  |======================================================================| 100%
done
Mar 24 21:35:59 Annotating Splice Events
Annotating Mutually-Exclusive-Exon Splice Events...done
Annotating Skipped-Exon Splice Events...done
Annotating Alternate 5' / 3' Splice Site Splice Events...done
Annotating Alternate First / Last Exon Splice Events...done
Annotating known retained introns...done
Mar 24 21:36:00 Splice Annotations Filtered
Mar 24 21:36:00 Translating Alternate Splice Peptides...done
Mar 24 21:36:01 Splice Annotations finished

Reference build finished
Mar 24 21:36:02 Running IRFinder
Mar 24 21:36:02 Using MulticoreParam 1 threads
Mar 24 21:36:02 IRFinder processed RtmpdyA6pm/02H003.bam
Mar 24 21:36:02 IRFinder processed RtmpdyA6pm/02H025.bam
Mar 24 21:36:03 IRFinder processed RtmpdyA6pm/02H026.bam
Mar 24 21:36:03 IRFinder processed RtmpdyA6pm/02H033.bam
Mar 24 21:36:04 IRFinder processed RtmpdyA6pm/02H043.bam
Mar 24 21:36:04 IRFinder processed RtmpdyA6pm/02H046.bam
Mar 24 21:36:04 Validating Experiment; checking COV files...
Mar 24 21:36:04 Using MulticoreParam 1 threads
Mar 24 21:36:04 Compiling Sample Stats
Mar 24 21:36:04 Compiling Junction List...merging...done
Mar 24 21:36:05 Compiling Intron Retention List...done
Mar 24 21:36:06 Tidying up splice junctions and intron retentions...
...annotating splice junctions
...grouping splice junctions
...grouping introns
...loading splice events
...saving annotations
...compiling rowEvents
done

Mar 24 21:36:08 Generating NxtIRF assays
Mar 24 21:36:08 Using MulticoreParam 1 threads

  |                                                                            
  |                                                                      |   0%
  |                                                                            
  |============                                                          |  17%
  |                                                                            
  |=======================                                               |  33%
  |                                                                            
  |===================================                                   |  50%
  |                                                                            
  |===============================================                       |  67%
  |                                                                            
  |==========================================================            |  83%
  |                                                                            
  |======================================================================| 100%

Building Final SummarizedExperiment Object

  |                                                                            
  |                                                                      |   0%
  |                                                                            
  |============                                                          |  17%
  |                                                                            
  |=======================                                               |  33%
  |                                                                            
  |===================================                                   |  50%
  |                                                                            
  |===============================================                       |  67%
  |                                                                            
  |==========================================================            |  83%
  |                                                                            
  |======================================================================| 100%
NxtIRF Collation Finished
Mar 24 21:36:12 Loading NxtSE object from file...done

Mar 24 21:36:12 Removing overlapping introns...
Mar 24 21:36:12 Iterating through IR events to determine introns of main isoforms
Mar 24 21:36:12 Iteration 1
Mar 24 21:36:12 Iteration 2
NxtIRF was compiled without OpenMP
[ FAIL 0 | WARN 0 | SKIP 1 | PASS 16 ]

══ Skipped tests ═══════════════════════════════════════════════════════════════
• empty test (1)

[ FAIL 0 | WARN 0 | SKIP 1 | PASS 16 ]
> 
> # bump to trigger r cmd check
> 
> proc.time()
   user  system elapsed 
 42.157   1.799  44.087 

Example timings

NxtIRFcore.Rcheck/NxtIRFcore-Ex.timings

nameusersystemelapsed
ASE-methods0.5890.0330.637
BuildReference14.920 0.30815.256
CollateData12.098 0.64012.824
CoordToGR0.0170.0010.018
Coverage0.8730.0430.922
Find_Samples0.0040.0020.006
IRFinder2.1940.8822.019
IsCOV0.4810.2200.059
MakeSE1.8260.4012.248
Mappability-methods0.0320.0110.043
NxtFilter-class0.0820.0110.094
NxtSE-class2.8000.3783.205
Plot_Coverage3.8070.1303.949
Run_NxtIRF_Filters0.5370.0090.547
STAR-methods0.0040.0060.014
example-NxtIRF-data0.0090.0040.013
make_plot_data0.0350.0010.036
theme_white0.1340.0020.137