Name | Last modified | Size | Description | |
---|---|---|---|---|
Parent Directory | - | |||
install-summary.dcf | 29-Jun-2024 06:42 | 264 | ||
install-out.txt | 29-Jun-2024 06:42 | 1.7K | ||
checksrc-summary.dcf | 29-Jun-2024 06:42 | 438 | ||
checksrc-out.txt | 29-Jun-2024 06:42 | 4.3K | ||
buildsrc-summary.dcf | 29-Jun-2024 06:42 | 444 | ||
buildsrc-out.txt | 29-Jun-2024 06:42 | 921 | ||
buildbin-summary.dcf | 29-Jun-2024 06:42 | 503 | ||
buildbin-out.txt | 29-Jun-2024 06:42 | 1.8K | ||