Back to Multiple platform build/check report for BioC 3.17: simplified long |
|
This page was generated on 2023-09-23 11:35:12 -0400 (Sat, 23 Sep 2023).
Hostname | OS | Arch (*) | R version | Installed pkgs |
---|---|---|---|---|
nebbiolo1 | Linux (Ubuntu 22.04.2 LTS) | x86_64 | 4.3.1 (2023-06-16) -- "Beagle Scouts" | 4625 |
palomino3 | Windows Server 2022 Datacenter | x64 | 4.3.1 (2023-06-16 ucrt) -- "Beagle Scouts" | 4378 |
merida1 | macOS 12.6.4 Monterey | x86_64 | 4.3.1 (2023-06-16) -- "Beagle Scouts" | 4394 |
Click on any hostname to see more info about the system (e.g. compilers) (*) as reported by 'uname -p', except on Windows and Mac OS X |
Package 1392/2230 | Hostname | OS / Arch | INSTALL | BUILD | CHECK | BUILD BIN | ||||||||
NormalyzerDE 1.18.1 (landing page) Jakob Willforss
| nebbiolo1 | Linux (Ubuntu 22.04.2 LTS) / x86_64 | OK | OK | OK | ![]() | ||||||||
palomino3 | Windows Server 2022 Datacenter / x64 | OK | OK | OK | OK | ![]() | ||||||||
merida1 | macOS 12.6.4 Monterey / x86_64 | OK | OK | OK | OK | ![]() | ||||||||
To the developers/maintainers of the NormalyzerDE package: - Allow up to 24 hours (and sometimes 48 hours) for your latest push to git@git.bioconductor.org:packages/NormalyzerDE.git to reflect on this report. See Troubleshooting Build Report for more information. - Use the following Renviron settings to reproduce errors and warnings. - If 'R CMD check' started to fail recently on the Linux builder(s) over a missing dependency, add the missing dependency to 'Suggests:' in your DESCRIPTION file. See Renviron.bioc for more information. |
Package: NormalyzerDE |
Version: 1.18.1 |
Command: /home/biocbuild/bbs-3.17-bioc/R/bin/R CMD check --install=check:NormalyzerDE.install-out.txt --library=/home/biocbuild/bbs-3.17-bioc/R/site-library --timings NormalyzerDE_1.18.1.tar.gz |
StartedAt: 2023-09-22 23:43:20 -0400 (Fri, 22 Sep 2023) |
EndedAt: 2023-09-22 23:49:55 -0400 (Fri, 22 Sep 2023) |
EllapsedTime: 394.4 seconds |
RetCode: 0 |
Status: OK |
CheckDir: NormalyzerDE.Rcheck |
Warnings: 0 |
############################################################################## ############################################################################## ### ### Running command: ### ### /home/biocbuild/bbs-3.17-bioc/R/bin/R CMD check --install=check:NormalyzerDE.install-out.txt --library=/home/biocbuild/bbs-3.17-bioc/R/site-library --timings NormalyzerDE_1.18.1.tar.gz ### ############################################################################## ############################################################################## * using log directory ‘/home/biocbuild/bbs-3.17-bioc/meat/NormalyzerDE.Rcheck’ * using R version 4.3.1 (2023-06-16) * using platform: x86_64-pc-linux-gnu (64-bit) * R was compiled by gcc (Ubuntu 11.3.0-1ubuntu1~22.04.1) 11.3.0 GNU Fortran (Ubuntu 11.3.0-1ubuntu1~22.04.1) 11.3.0 * running under: Ubuntu 22.04.3 LTS * using session charset: UTF-8 * checking for file ‘NormalyzerDE/DESCRIPTION’ ... OK * this is package ‘NormalyzerDE’ version ‘1.18.1’ * package encoding: UTF-8 * checking package namespace information ... OK * checking package dependencies ... OK * checking if this is a source package ... OK * checking if there is a namespace ... OK * checking for hidden files and directories ... NOTE Found the following hidden files and directories: .travis.yml These were most likely included in error. See section ‘Package structure’ in the ‘Writing R Extensions’ manual. * checking for portable file names ... OK * checking for sufficient/correct file permissions ... OK * checking whether package ‘NormalyzerDE’ can be installed ... OK * checking installed package size ... OK * checking package directory ... OK * checking ‘build’ directory ... OK * checking DESCRIPTION meta-information ... OK * checking top-level files ... OK * checking for left-over files ... OK * checking index information ... OK * checking package subdirectories ... OK * checking R files for non-ASCII characters ... OK * checking R files for syntax errors ... OK * checking whether the package can be loaded ... OK * checking whether the package can be loaded with stated dependencies ... OK * checking whether the package can be unloaded cleanly ... OK * checking whether the namespace can be loaded with stated dependencies ... OK * checking whether the namespace can be unloaded cleanly ... OK * checking loading without being on the library search path ... OK * checking dependencies in R code ... OK * checking S3 generic/method consistency ... OK * checking replacement functions ... OK * checking foreign function calls ... OK * checking R code for possible problems ... OK * checking Rd files ... OK * checking Rd metadata ... OK * checking Rd cross-references ... OK * checking for missing documentation entries ... OK * checking for code/documentation mismatches ... OK * checking Rd \usage sections ... OK * checking Rd contents ... OK * checking for unstated dependencies in examples ... OK * checking contents of ‘data’ directory ... OK * checking data for non-ASCII characters ... OK * checking data for ASCII and uncompressed saves ... OK * checking files in ‘vignettes’ ... OK * checking examples ... OK Examples with CPU (user + system) or elapsed time > 5s user system elapsed generatePlots 11.756 0.24 11.997 * checking for unstated dependencies in ‘tests’ ... OK * checking tests ... Running ‘testthat.R’ OK * checking for unstated dependencies in vignettes ... OK * checking package vignettes in ‘inst/doc’ ... OK * checking running R code from vignettes ... ‘vignette.Rmd’ using ‘UTF-8’... OK NONE * checking re-building of vignette outputs ... OK * checking PDF version of manual ... OK * DONE Status: 1 NOTE See ‘/home/biocbuild/bbs-3.17-bioc/meat/NormalyzerDE.Rcheck/00check.log’ for details.
NormalyzerDE.Rcheck/00install.out
############################################################################## ############################################################################## ### ### Running command: ### ### /home/biocbuild/bbs-3.17-bioc/R/bin/R CMD INSTALL NormalyzerDE ### ############################################################################## ############################################################################## * installing to library ‘/home/biocbuild/bbs-3.17-bioc/R/site-library’ * installing *source* package ‘NormalyzerDE’ ... ** using staged installation ** R ** data ** inst ** byte-compile and prepare package for lazy loading ** help *** installing help indices ** building package indices ** installing vignettes ** testing if installed package can be loaded from temporary location ** testing if installed package can be loaded from final location ** testing if installed package keeps a record of temporary installation path * DONE (NormalyzerDE)
NormalyzerDE.Rcheck/tests/testthat.Rout
R version 4.3.1 (2023-06-16) -- "Beagle Scouts" Copyright (C) 2023 The R Foundation for Statistical Computing Platform: x86_64-pc-linux-gnu (64-bit) R is free software and comes with ABSOLUTELY NO WARRANTY. You are welcome to redistribute it under certain conditions. Type 'license()' or 'licence()' for distribution details. R is a collaborative project with many contributors. Type 'contributors()' for more information and 'citation()' on how to cite R or R packages in publications. Type 'demo()' for some demos, 'help()' for on-line help, or 'help.start()' for an HTML browser interface to help. Type 'q()' to quit R. > library(testthat) > library(NormalyzerDE) The legacy packages maptools, rgdal, and rgeos, underpinning the sp package, which was just loaded, will retire in October 2023. Please refer to R-spatial evolution reports for details, especially https://r-spatial.org/r/2023/05/15/evolution4.html. It may be desirable to make the sf package available; package maintainers should consider adding sf to Suggests:. The sp package is now running under evolution status 2 (status 2 uses the sf package in place of rgdal) > test_check("NormalyzerDE") [ FAIL 0 | WARN 0 | SKIP 0 | PASS 86 ] > > proc.time() user system elapsed 25.022 0.853 25.862
NormalyzerDE.Rcheck/NormalyzerDE-Ex.timings
name | user | system | elapsed | |
NormalyzerEvaluationResults | 3.560 | 0.128 | 3.687 | |
NormalyzerResults | 0.082 | 0.008 | 0.090 | |
NormalyzerStatistics | 0.015 | 0.000 | 0.015 | |
analyzeNormalizations | 3.156 | 0.024 | 3.180 | |
calculateContrasts | 0.086 | 0.000 | 0.085 | |
generateAnnotatedMatrix | 0.044 | 0.000 | 0.043 | |
generatePlots | 11.756 | 0.240 | 11.997 | |
generateStatsReport | 2.073 | 0.012 | 2.085 | |
getRTNormalizedMatrix | 2.387 | 0.056 | 2.443 | |
getSmoothedRTNormalizedMatrix | 3.089 | 0.040 | 3.129 | |
getVerifiedNormalyzerObject | 0.041 | 0.000 | 0.041 | |
globalIntensityNormalization | 0.003 | 0.000 | 0.003 | |
loadData | 0 | 0 | 0 | |
loadDesign | 0.001 | 0.000 | 0.001 | |
meanNormalization | 0.003 | 0.000 | 0.003 | |
medianNormalization | 0.000 | 0.003 | 0.003 | |
normMethods | 1.603 | 0.024 | 1.628 | |
normalyzer | 0.001 | 0.000 | 0.001 | |
normalyzerDE | 0.963 | 0.005 | 0.968 | |
performCyclicLoessNormalization | 0.006 | 0.000 | 0.007 | |
performGlobalRLRNormalization | 0.011 | 0.003 | 0.015 | |
performQuantileNormalization | 0.002 | 0.001 | 0.002 | |
performSMADNormalization | 0.002 | 0.000 | 0.002 | |
performVSNNormalization | 0.016 | 0.000 | 0.016 | |
reduceTechnicalReplicates | 0.026 | 0.000 | 0.026 | |
setupJobDir | 0.001 | 0.000 | 0.001 | |
setupRawContrastObject | 0.013 | 0.000 | 0.013 | |
setupRawDataObject | 0.018 | 0.000 | 0.017 | |
setupTestData | 0.002 | 0.000 | 0.001 | |
writeNormalizedDatasets | 3.116 | 0.027 | 3.144 | |