Name | Last modified | Size | Description | |
---|---|---|---|---|
Parent Directory | - | |||
buildbin-out.txt | 24-Jul-2024 22:04 | 1.1K | ||
buildbin-summary.dcf | 24-Jul-2024 22:04 | 503 | ||
buildsrc-out.txt | 24-Jul-2024 22:04 | 829 | ||
buildsrc-summary.dcf | 24-Jul-2024 22:04 | 444 | ||
checksrc-out.txt | 24-Jul-2024 22:04 | 3.8K | ||
checksrc-summary.dcf | 24-Jul-2024 22:04 | 439 | ||
install-out.txt | 24-Jul-2024 22:04 | 1.0K | ||
install-summary.dcf | 24-Jul-2024 22:04 | 264 | ||