Name | Last modified | Size | Description | |
---|---|---|---|---|
Parent Directory | - | |||
buildbin-out.txt | 12-Jun-2024 03:44 | 1.2K | ||
buildbin-summary.dcf | 12-Jun-2024 03:44 | 518 | ||
buildsrc-out.txt | 12-Jun-2024 03:44 | 808 | ||
buildsrc-summary.dcf | 12-Jun-2024 03:44 | 421 | ||
checksrc-out.txt | 12-Jun-2024 03:44 | 3.8K | ||
checksrc-summary.dcf | 12-Jun-2024 03:44 | 436 | ||
install-out.txt | 12-Jun-2024 03:44 | 1.0K | ||
install-summary.dcf | 12-Jun-2024 03:44 | 265 | ||