Back to Multiple platform build/check report for BioC 3.16:   simplified   long
ABCDEFGHIJKLM[N]OPQRSTUVWXYZ

This page was generated on 2023-03-24 11:06:09 -0400 (Fri, 24 Mar 2023).

HostnameOSArch (*)R versionInstalled pkgs
nebbiolo2Linux (Ubuntu 20.04.5 LTS)x86_644.2.3 (2023-03-15) -- "Shortstop Beagle" 4286
palomino4Windows Server 2022 Datacenterx644.2.3 (2023-03-15 ucrt) -- "Shortstop Beagle" 4276
lconwaymacOS 12.5.1 Montereyx86_644.2.3 (2023-03-15) -- "Shortstop Beagle" 4303
Click on any hostname to see more info about the system (e.g. compilers)      (*) as reported by 'uname -p', except on Windows and Mac OS X

BUILD BIN results for NoRCE on palomino4


To the developers/maintainers of the NoRCE package:
- Please allow up to 24 hours (and sometimes 48 hours) for your latest push to git@git.bioconductor.org:packages/NoRCE.git to
reflect on this report. See How and When does the builder pull? When will my changes propagate? for more information.
- Make sure to use the following settings in order to reproduce any error or warning you see on this page.

raw results

Package 1358/2183HostnameOS / ArchINSTALLBUILDCHECKBUILD BIN
NoRCE 1.10.0  (landing page)
Gulden Olgun
Snapshot Date: 2023-03-22 14:00:04 -0400 (Wed, 22 Mar 2023)
git_url: https://git.bioconductor.org/packages/NoRCE
git_branch: RELEASE_3_16
git_last_commit: 39a8626
git_last_commit_date: 2022-11-01 11:21:35 -0400 (Tue, 01 Nov 2022)
nebbiolo2Linux (Ubuntu 20.04.5 LTS) / x86_64  OK    OK    OK  UNNEEDED, same version is already published
palomino4Windows Server 2022 Datacenter / x64  OK    OK    OK    OK  UNNEEDED, same version is already published
lconwaymacOS 12.5.1 Monterey / x86_64  OK    OK    OK    OK  UNNEEDED, same version is already published

Summary

Package: NoRCE
Version: 1.10.0
Command: rm -rf NoRCE.buildbin-libdir && mkdir NoRCE.buildbin-libdir && F:\biocbuild\bbs-3.16-bioc\R\bin\R.exe CMD INSTALL --build --library=NoRCE.buildbin-libdir NoRCE_1.10.0.tar.gz
StartedAt: 2023-03-23 08:35:21 -0400 (Thu, 23 Mar 2023)
EndedAt: 2023-03-23 08:36:07 -0400 (Thu, 23 Mar 2023)
EllapsedTime: 45.9 seconds
RetCode: 0
Status:   OK  
PackageFile: NoRCE_1.10.0.zip
PackageFileSize: 2.362 MiB

Command output

##############################################################################
##############################################################################
###
### Running command:
###
###   rm -rf NoRCE.buildbin-libdir && mkdir NoRCE.buildbin-libdir && F:\biocbuild\bbs-3.16-bioc\R\bin\R.exe CMD INSTALL --build --library=NoRCE.buildbin-libdir NoRCE_1.10.0.tar.gz
###
##############################################################################
##############################################################################


* installing *source* package 'NoRCE' ...
** using staged installation
** R
** data
*** moving datasets to lazyload DB
** inst
** byte-compile and prepare package for lazy loading
** help
*** installing help indices
** building package indices
** installing vignettes
** testing if installed package can be loaded from temporary location
** testing if installed package can be loaded from final location
** testing if installed package keeps a record of temporary installation path
* MD5 sums
packaged installation of 'NoRCE' as NoRCE_1.10.0.zip
* DONE (NoRCE)