Back to Multiple platform build/check report for BioC 3.14
ABCDEFGHIJKLM[N]OPQRSTUVWXYZ

This page was generated on 2021-12-03 13:05:24 -0500 (Fri, 03 Dec 2021).

BUILD results for NewWave on tokay2

To the developers/maintainers of the NewWave package:
- Please allow up to 24 hours (and sometimes 48 hours) for your latest push to git@git.bioconductor.org:packages/NewWave.git to
reflect on this report. See How and When does the builder pull? When will my changes propagate? here for more information.
- Make sure to use the following settings in order to reproduce any error or warning you see on this page.

raw results

Package 1294/2083HostnameOS / ArchINSTALLBUILDCHECKBUILD BIN
NewWave 1.4.0  (landing page)
Federico Agostinis
Snapshot Date: 2021-12-02 01:55:06 -0500 (Thu, 02 Dec 2021)
git_url: https://git.bioconductor.org/packages/NewWave
git_branch: RELEASE_3_14
git_last_commit: b524b24
git_last_commit_date: 2021-10-26 13:05:00 -0500 (Tue, 26 Oct 2021)
nebbiolo2Linux (Ubuntu 20.04.3 LTS) / x86_64  OK    OK    OK  UNNEEDED, same version is already published
tokay2Windows Server 2012 R2 Standard / x64  OK    OK    OK    OK  UNNEEDED, same version is already published
machv2macOS 10.14.6 Mojave / x86_64  OK    OK    OK    OK  UNNEEDED, same version is already published

Summary

Package: NewWave
Version: 1.4.0
Command: chmod a+r NewWave -R && C:\Users\biocbuild\bbs-3.14-bioc\R\bin\R.exe CMD build --keep-empty-dirs --no-resave-data NewWave
StartedAt: 2021-12-02 13:03:21 -0500 (Thu, 02 Dec 2021)
EndedAt: 2021-12-02 13:06:27 -0500 (Thu, 02 Dec 2021)
EllapsedTime: 185.5 seconds
RetCode: 0
Status:   OK  
PackageFile: NewWave_1.4.0.tar.gz
PackageFileSize: 50.06 KiB

Command output

##############################################################################
##############################################################################
###
### Running command:
###
###   chmod a+r NewWave -R && C:\Users\biocbuild\bbs-3.14-bioc\R\bin\R.exe CMD build --keep-empty-dirs --no-resave-data NewWave
###
##############################################################################
##############################################################################


* checking for file 'NewWave/DESCRIPTION' ... OK
* preparing 'NewWave':
* checking DESCRIPTION meta-information ... OK
* installing the package to build vignettes
* creating vignettes ... OK
* checking for LF line-endings in source and make files and shell scripts
* checking for empty or unneeded directories
Omitted 'LazyData' from DESCRIPTION
* building 'NewWave_1.4.0.tar.gz'