Index of /checkResults/release/bioc-LATEST/NewWave/raw-results/nebbiolo1

[ICO]NameLast modifiedSizeDescription

[DIR]Parent Directory  -  
[TXT]buildsrc-out.txt20-Jul-2024 06:37 846  
[   ]buildsrc-summary.dcf20-Jul-2024 06:37 418  
[TXT]checksrc-out.txt20-Jul-2024 06:37 3.9K 
[   ]checksrc-summary.dcf20-Jul-2024 06:37 414  
[TXT]install-out.txt20-Jul-2024 06:37 944  
[   ]install-summary.dcf20-Jul-2024 06:37 259