Back to Multiple platform build/check report for BioC 3.12 |
|
This page was generated on 2021-01-19 11:55:55 -0500 (Tue, 19 Jan 2021).
TO THE DEVELOPERS/MAINTAINERS OF THE NetPathMiner PACKAGE: Please make sure to use the following settings in order to reproduce any error or warning you see on this page. |
Package 1218/1974 | Hostname | OS / Arch | INSTALL | BUILD | CHECK | BUILD BIN | ||||||
NetPathMiner 1.26.0 Ahmed Mohamed
| malbec1 | Linux (Ubuntu 18.04.5 LTS) / x86_64 | OK | OK | WARNINGS | ![]() | ||||||
nebbiolo1 | Linux (Ubuntu 20.04.1 LTS) / x86_64 | OK | OK | WARNINGS | ||||||||
tokay1 | Windows Server 2012 R2 Standard / x64 | OK | [ OK ] | WARNINGS | OK | ![]() | ||||||
merida1 | macOS 10.14.6 Mojave / x86_64 | OK | OK | WARNINGS | OK | ![]() |
Package: NetPathMiner |
Version: 1.26.0 |
Command: chmod a+r NetPathMiner -R && C:\Users\biocbuild\bbs-3.12-bioc\R\bin\R.exe CMD build --keep-empty-dirs --no-resave-data NetPathMiner |
StartedAt: 2021-01-18 22:17:50 -0500 (Mon, 18 Jan 2021) |
EndedAt: 2021-01-18 22:18:59 -0500 (Mon, 18 Jan 2021) |
EllapsedTime: 69.1 seconds |
RetCode: 0 |
Status: OK |
PackageFile: NetPathMiner_1.26.0.tar.gz |
PackageFileSize: 1.836 MiB |
############################################################################## ############################################################################## ### ### Running command: ### ### chmod a+r NetPathMiner -R && C:\Users\biocbuild\bbs-3.12-bioc\R\bin\R.exe CMD build --keep-empty-dirs --no-resave-data NetPathMiner ### ############################################################################## ############################################################################## * checking for file 'NetPathMiner/DESCRIPTION' ... OK * preparing 'NetPathMiner': * checking DESCRIPTION meta-information ... OK * cleaning src * running 'cleanup.win' * installing the package to build vignettes * creating vignettes ... OK * cleaning src * running 'cleanup.win' * checking for LF line-endings in source and make files and shell scripts * checking for empty or unneeded directories * looking to see if a 'data/datalist' file should be added * building 'NetPathMiner_1.26.0.tar.gz' Warning: file 'NetPathMiner/cleanup' did not have execute permissions: corrected Warning: file 'NetPathMiner/configure' did not have execute permissions: corrected