Back to Multiple platform build/check report for BioC 3.12
ABCDEFGHIJKLM[N]OPQRSTUVWXYZ

BUILD report for NetPathMiner on merida1

This page was generated on 2021-01-19 11:58:00 -0500 (Tue, 19 Jan 2021).

TO THE DEVELOPERS/MAINTAINERS OF THE NetPathMiner PACKAGE: Please make sure to use the following settings in order to reproduce any error or warning you see on this page.
Package 1218/1974HostnameOS / ArchINSTALLBUILDCHECKBUILD BIN
NetPathMiner 1.26.0
Ahmed Mohamed
Snapshot Date: 2021-01-18 14:42:24 -0500 (Mon, 18 Jan 2021)
URL: https://git.bioconductor.org/packages/NetPathMiner
Branch: RELEASE_3_12
Last Commit: 57dbe8c
Last Changed Date: 2020-10-27 10:56:36 -0500 (Tue, 27 Oct 2020)
malbec1 Linux (Ubuntu 18.04.5 LTS) / x86_64  OK  OK  WARNINGS UNNEEDED, same version exists in internal repository
nebbiolo1 Linux (Ubuntu 20.04.1 LTS) / x86_64  OK  OK  WARNINGS 
tokay1 Windows Server 2012 R2 Standard / x64  OK  OK  WARNINGS  OK UNNEEDED, same version exists in internal repository
merida1 macOS 10.14.6 Mojave / x86_64  OK [ OK ] WARNINGS  OK UNNEEDED, same version exists in internal repository

Summary

Package: NetPathMiner
Version: 1.26.0
Command: /Library/Frameworks/R.framework/Versions/Current/Resources/bin/R CMD build --keep-empty-dirs --no-resave-data NetPathMiner
StartedAt: 2021-01-18 21:01:36 -0500 (Mon, 18 Jan 2021)
EndedAt: 2021-01-18 21:02:34 -0500 (Mon, 18 Jan 2021)
EllapsedTime: 58.2 seconds
RetCode: 0
Status:  OK 
PackageFile: NetPathMiner_1.26.0.tar.gz
PackageFileSize: 1.598 MiB

Command output

##############################################################################
##############################################################################
###
### Running command:
###
###   /Library/Frameworks/R.framework/Versions/Current/Resources/bin/R CMD build --keep-empty-dirs --no-resave-data NetPathMiner
###
##############################################################################
##############################################################################


* checking for file ‘NetPathMiner/DESCRIPTION’ ... OK
* preparing ‘NetPathMiner’:
* checking DESCRIPTION meta-information ... OK
* cleaning src
* running ‘cleanup’
* installing the package to build vignettes
* creating vignettes ... OK
* cleaning src
* running ‘cleanup’
* checking for LF line-endings in source and make files and shell scripts
* checking for empty or unneeded directories
* looking to see if a ‘data/datalist’ file should be added
* building ‘NetPathMiner_1.26.0.tar.gz’