Name | Last modified | Size | Description | |
---|---|---|---|---|
Parent Directory | - | |||
install-summary.dcf | 17-Jul-2024 06:40 | 276 | ||
checksrc-summary.dcf | 17-Jul-2024 06:40 | 461 | ||
buildsrc-summary.dcf | 17-Jul-2024 06:40 | 467 | ||
buildbin-summary.dcf | 17-Jul-2024 06:40 | 537 | ||
buildsrc-out.txt | 17-Jul-2024 06:40 | 890 | ||
checksrc-out.txt | 17-Jul-2024 06:40 | 5.3K | ||
install-out.txt | 17-Jul-2024 06:40 | 6.4K | ||
buildbin-out.txt | 17-Jul-2024 06:40 | 6.6K | ||