Index of /checkResults/release/bioc-LATEST/NCIgraph/raw-results
Name
Last modified
Size
Description
Parent Directory
-
kunpeng2/
03-Nov-2023 00:41
-
nebbiolo2/
30-Mar-2024 00:36
-
info.dcf
30-Mar-2024 00:35
277