Back to Multiple platform build/check report for BioC 3.12
ABCDEFGHIJKLM[N]OPQRSTUVWXYZ

BUILD report for NCIgraph on nebbiolo1

This page was generated on 2021-03-03 12:12:43 -0500 (Wed, 03 Mar 2021).

To the developers/maintainers of the NCIgraph package:
Please make sure to use the following settings in order to reproduce any error or warning you see on this page.
Package 1206/1974HostnameOS / ArchINSTALLBUILDCHECKBUILD BIN
NCIgraph 1.38.0
Laurent Jacob
Snapshot Date: 2021-03-02 14:50:31 -0500 (Tue, 02 Mar 2021)
URL: https://git.bioconductor.org/packages/NCIgraph
Branch: RELEASE_3_12
Last Commit: 1f618f0
Last Changed Date: 2020-10-27 10:41:10 -0500 (Tue, 27 Oct 2020)
malbec1Linux (Ubuntu 18.04.5 LTS) / x86_64  OK    OK    OK  UNNEEDED, same version exists in internal repository
nebbiolo1Linux (Ubuntu 20.04.2 LTS) / x86_64  OK    OK    OK  
tokay1Windows Server 2012 R2 Standard / x64... NOT SUPPORTED ...
merida1macOS 10.14.6 Mojave / x86_64... NOT SUPPORTED ...

Summary

Package: NCIgraph
Version: 1.38.0
Command: /home/biocbuild/bbs-3.12-bioc/R/bin/R CMD build --keep-empty-dirs --no-resave-data NCIgraph
StartedAt: 2021-03-02 19:07:17 -0500 (Tue, 02 Mar 2021)
EndedAt: 2021-03-02 19:08:54 -0500 (Tue, 02 Mar 2021)
EllapsedTime: 97.0 seconds
RetCode: 0
Status:   OK  
PackageFile: NCIgraph_1.38.0.tar.gz
PackageFileSize: 251.2 KiB

Command output

##############################################################################
##############################################################################
###
### Running command:
###
###   /home/biocbuild/bbs-3.12-bioc/R/bin/R CMD build --keep-empty-dirs --no-resave-data NCIgraph
###
##############################################################################
##############################################################################


* checking for file ‘NCIgraph/DESCRIPTION’ ... OK
* preparing ‘NCIgraph’:
* checking DESCRIPTION meta-information ... OK
* installing the package to build vignettes
* creating vignettes ... OK
* checking for LF line-endings in source and make files and shell scripts
* checking for empty or unneeded directories
* looking to see if a ‘data/datalist’ file should be added
* building ‘NCIgraph_1.38.0.tar.gz’