Index of /checkResults/release/bioc-LATEST/NADfinder/raw-results

[ICO]NameLast modifiedSizeDescription

[DIR]Parent Directory  -  
[DIR]palomino4/01-Dec-2023 01:36 -  
[DIR]nebbiolo2/01-Dec-2023 01:35 -  
[DIR]lconway/01-Dec-2023 01:37 -  
[DIR]kunpeng2/03-Nov-2023 00:40 -  
[   ]info.dcf01-Dec-2023 01:37 274