Back to Multiple platform build/check report for BioC 3.15
ABCDEFGHIJKL[M]NOPQRSTUVWXYZ

This page was generated on 2022-08-15 13:21:49 -0400 (Mon, 15 Aug 2022).

HostnameOSArch (*)R versionInstalled pkgs
nebbiolo1Linux (Ubuntu 20.04.4 LTS)x86_644.2.1 (2022-06-23) -- "Funny-Looking Kid" 4365
palomino3Windows Server 2022 Datacenterx644.2.1 (2022-06-23 ucrt) -- "Funny-Looking Kid" 4118
merida1macOS 10.14.6 Mojavex86_644.2.1 (2022-06-23) -- "Funny-Looking Kid" 4183
Click on any hostname to see more info about the system (e.g. compilers)      (*) as reported by 'uname -p', except on Windows and Mac OS X

BUILD BIN results for MungeSumstats on palomino3


To the developers/maintainers of the MungeSumstats package:
- Please allow up to 24 hours (and sometimes 48 hours) for your latest push to git@git.bioconductor.org:packages/MungeSumstats.git to
reflect on this report. See How and When does the builder pull? When will my changes propagate? for more information.
- Make sure to use the following settings in order to reproduce any error or warning you see on this page.

raw results

Package 1284/2140HostnameOS / ArchINSTALLBUILDCHECKBUILD BIN
MungeSumstats 1.4.5  (landing page)
Alan Murphy
Snapshot Date: 2022-08-14 13:55:13 -0400 (Sun, 14 Aug 2022)
git_url: https://git.bioconductor.org/packages/MungeSumstats
git_branch: RELEASE_3_15
git_last_commit: 0da13c2
git_last_commit_date: 2022-06-08 13:06:54 -0400 (Wed, 08 Jun 2022)
nebbiolo1Linux (Ubuntu 20.04.4 LTS) / x86_64  OK    OK    OK  UNNEEDED, same version is already published
palomino3Windows Server 2022 Datacenter / x64  OK    OK    OK    OK  UNNEEDED, same version is already published
merida1macOS 10.14.6 Mojave / x86_64  OK    OK    OK    OK  UNNEEDED, same version is already published

Summary

Package: MungeSumstats
Version: 1.4.5
Command: rm -rf MungeSumstats.buildbin-libdir && mkdir MungeSumstats.buildbin-libdir && F:\biocbuild\bbs-3.15-bioc\R\bin\R.exe CMD INSTALL --build --library=MungeSumstats.buildbin-libdir MungeSumstats_1.4.5.tar.gz
StartedAt: 2022-08-15 06:50:27 -0400 (Mon, 15 Aug 2022)
EndedAt: 2022-08-15 06:51:57 -0400 (Mon, 15 Aug 2022)
EllapsedTime: 89.8 seconds
RetCode: 0
Status:   OK  
PackageFile: MungeSumstats_1.4.5.zip
PackageFileSize: 2.578 MiB

Command output

##############################################################################
##############################################################################
###
### Running command:
###
###   rm -rf MungeSumstats.buildbin-libdir && mkdir MungeSumstats.buildbin-libdir && F:\biocbuild\bbs-3.15-bioc\R\bin\R.exe CMD INSTALL --build --library=MungeSumstats.buildbin-libdir MungeSumstats_1.4.5.tar.gz
###
##############################################################################
##############################################################################


* installing *source* package 'MungeSumstats' ...
** using staged installation
** R
** data
** inst
** byte-compile and prepare package for lazy loading
** help
*** installing help indices
** building package indices
** installing vignettes
** testing if installed package can be loaded from temporary location
** testing if installed package can be loaded from final location
** testing if installed package keeps a record of temporary installation path
* MD5 sums
packaged installation of 'MungeSumstats' as MungeSumstats_1.4.5.zip
* DONE (MungeSumstats)