Name | Last modified | Size | Description | |
---|---|---|---|---|
Parent Directory | - | |||
install-summary.dcf | 10-May-2024 00:41 | 280 | ||
install-out.txt | 10-May-2024 00:41 | 1.3K | ||
checksrc-summary.dcf | 10-May-2024 00:41 | 477 | ||
checksrc-out.txt | 10-May-2024 00:41 | 5.2K | ||
buildsrc-summary.dcf | 10-May-2024 00:41 | 443 | ||
buildsrc-out.txt | 10-May-2024 00:41 | 1.0K | ||